BEGIN:VCALENDAR
VERSION:2.0
PRODID:-//Gulf Coast Consortia - ECPv6.15.18//NONSGML v1.0//EN
CALSCALE:GREGORIAN
METHOD:PUBLISH
X-ORIGINAL-URL:https://www.gulfcoastconsortia.org
X-WR-CALDESC:Events for Gulf Coast Consortia
REFRESH-INTERVAL;VALUE=DURATION:PT1H
X-Robots-Tag:noindex
X-PUBLISHED-TTL:PT1H
BEGIN:VTIMEZONE
TZID:America/Chicago
BEGIN:DAYLIGHT
TZOFFSETFROM:-0600
TZOFFSETTO:-0500
TZNAME:CDT
DTSTART:20180311T080000
END:DAYLIGHT
BEGIN:STANDARD
TZOFFSETFROM:-0500
TZOFFSETTO:-0600
TZNAME:CST
DTSTART:20181104T070000
END:STANDARD
BEGIN:DAYLIGHT
TZOFFSETFROM:-0600
TZOFFSETTO:-0500
TZNAME:CDT
DTSTART:20190310T080000
END:DAYLIGHT
BEGIN:STANDARD
TZOFFSETFROM:-0500
TZOFFSETTO:-0600
TZNAME:CST
DTSTART:20191103T070000
END:STANDARD
BEGIN:DAYLIGHT
TZOFFSETFROM:-0600
TZOFFSETTO:-0500
TZNAME:CDT
DTSTART:20200308T080000
END:DAYLIGHT
BEGIN:STANDARD
TZOFFSETFROM:-0500
TZOFFSETTO:-0600
TZNAME:CST
DTSTART:20201101T070000
END:STANDARD
END:VTIMEZONE
BEGIN:VEVENT
DTSTART;TZID=America/Chicago:20190416T100000
DTEND;TZID=America/Chicago:20190416T153000
DTSTAMP:20260420T120649
CREATED:20190501T190533Z
LAST-MODIFIED:20190522T162250Z
UID:10000598-1555408800-1555428600@www.gulfcoastconsortia.org
SUMMARY:4th Annual Small Animal Imaging Facility Spring Symposium
DESCRIPTION:[vc_btn title=”Agenda” shape=”square” color=”peacoc” align=”center” button_block=”true” link=”url:%2Fwp-content%2Fuploads%2Fpdf%2FAgenda-2019-SAIF-Symposium-4.16.19-final.pdf||target:%20_blank|”]
URL:https://www.gulfcoastconsortia.org/event/4th-annual-small-animal-imaging-facility-spring-symposium/
LOCATION:Texas Childrens Hospital\, 6621 Fannin St\, Houston\, Texas\, 77030\, United States
CATEGORIES:GCCTI
ATTACH;FMTTYPE=image/jpeg:https://www.gulfcoastconsortia.org/wp-content/uploads/2019/05/image002.jpg
END:VEVENT
END:VCALENDAR