BEGIN:VCALENDAR
VERSION:2.0
PRODID:-//Gulf Coast Consortia - ECPv6.15.18//NONSGML v1.0//EN
CALSCALE:GREGORIAN
METHOD:PUBLISH
X-WR-CALNAME:Gulf Coast Consortia
X-ORIGINAL-URL:https://www.gulfcoastconsortia.org
X-WR-CALDESC:Events for Gulf Coast Consortia
REFRESH-INTERVAL;VALUE=DURATION:PT1H
X-Robots-Tag:noindex
X-PUBLISHED-TTL:PT1H
BEGIN:VTIMEZONE
TZID:America/Chicago
BEGIN:DAYLIGHT
TZOFFSETFROM:-0600
TZOFFSETTO:-0500
TZNAME:CDT
DTSTART:20230312T080000
END:DAYLIGHT
BEGIN:STANDARD
TZOFFSETFROM:-0500
TZOFFSETTO:-0600
TZNAME:CST
DTSTART:20231105T070000
END:STANDARD
BEGIN:DAYLIGHT
TZOFFSETFROM:-0600
TZOFFSETTO:-0500
TZNAME:CDT
DTSTART:20240310T080000
END:DAYLIGHT
BEGIN:STANDARD
TZOFFSETFROM:-0500
TZOFFSETTO:-0600
TZNAME:CST
DTSTART:20241103T070000
END:STANDARD
BEGIN:DAYLIGHT
TZOFFSETFROM:-0600
TZOFFSETTO:-0500
TZNAME:CDT
DTSTART:20250309T080000
END:DAYLIGHT
BEGIN:STANDARD
TZOFFSETFROM:-0500
TZOFFSETTO:-0600
TZNAME:CST
DTSTART:20251102T070000
END:STANDARD
END:VTIMEZONE
BEGIN:VEVENT
DTSTART;TZID=America/Chicago:20240223T083000
DTEND;TZID=America/Chicago:20240223T153000
DTSTAMP:20260421T051125
CREATED:20240216T182001Z
LAST-MODIFIED:20240216T182601Z
UID:10001111-1708677000-1708702200@www.gulfcoastconsortia.org
SUMMARY:CCTS Bioethics Forum
DESCRIPTION:Ethical AI: Bridging Gaps in Healthcare and Research for Underserved Communities \n\n\n\nHosted by Stephen Sodeke\, PhD; D. BioethicsResident Bioethicist\, Center for Biomedical ResearchProfessor of Bioethics and Allied Health SciencesTuskegee University \n\n\n\n\n\nImproving health outcomes in underserved communities means bridging gaps in healthcare and research.  Artificial intelligence (AI) offers promise to support medical professionals in data analysis and facilitating informed decision-making.  Leveraging AI may improve diagnostic accuracy and help to deliver personalized treatments\, ultimately enhancing patient care\, but there are ethical challenges that need to be overcome to realize the promise of AI-enhanced care for all people. \n\n\n\nLearn More Here \n\n\n\nRegister Here
URL:https://www.gulfcoastconsortia.org/event/ccts-bioethics-forum/
LOCATION:Renaissance Montgomery Hotel & Spa\, 201 Tallapoosa St\, Montgomery\, Alabama\, 36104
CATEGORIES:GCCDDCEH
ATTACH;FMTTYPE=image/png:https://www.gulfcoastconsortia.org/wp-content/uploads/2024/02/CCTS-Bioethics-Forum.png
END:VEVENT
END:VCALENDAR