BEGIN:VCALENDAR
VERSION:2.0
PRODID:-//Gulf Coast Consortia - ECPv6.15.18//NONSGML v1.0//EN
CALSCALE:GREGORIAN
METHOD:PUBLISH
X-ORIGINAL-URL:https://www.gulfcoastconsortia.org
X-WR-CALDESC:Events for Gulf Coast Consortia
REFRESH-INTERVAL;VALUE=DURATION:PT1H
X-Robots-Tag:noindex
X-PUBLISHED-TTL:PT1H
BEGIN:VTIMEZONE
TZID:America/Chicago
BEGIN:DAYLIGHT
TZOFFSETFROM:-0600
TZOFFSETTO:-0500
TZNAME:CDT
DTSTART:20190310T080000
END:DAYLIGHT
BEGIN:STANDARD
TZOFFSETFROM:-0500
TZOFFSETTO:-0600
TZNAME:CST
DTSTART:20191103T070000
END:STANDARD
BEGIN:DAYLIGHT
TZOFFSETFROM:-0600
TZOFFSETTO:-0500
TZNAME:CDT
DTSTART:20200308T080000
END:DAYLIGHT
BEGIN:STANDARD
TZOFFSETFROM:-0500
TZOFFSETTO:-0600
TZNAME:CST
DTSTART:20201101T070000
END:STANDARD
BEGIN:DAYLIGHT
TZOFFSETFROM:-0600
TZOFFSETTO:-0500
TZNAME:CDT
DTSTART:20210314T080000
END:DAYLIGHT
BEGIN:STANDARD
TZOFFSETFROM:-0500
TZOFFSETTO:-0600
TZNAME:CST
DTSTART:20211107T070000
END:STANDARD
END:VTIMEZONE
BEGIN:VEVENT
DTSTART;TZID=America/Chicago:20200129T130000
DTEND;TZID=America/Chicago:20200129T150000
DTSTAMP:20260420T135350
CREATED:20200122T171412Z
LAST-MODIFIED:20200122T171732Z
UID:10000764-1580302800-1580310000@www.gulfcoastconsortia.org
SUMMARY:How to Get Started in AI
DESCRIPTION:Presented by the Image Guided Cancer Therapy Research Program. Interactive workshop to increase awareness of available Artificial Intelligence resources.  \n\n\n\nSpeakers: Dr. Carlos Cardenas Department of Radiation Physics  \n\n\n\nBrian Anderson Department of Imaging Physics  \n\n\n\nTo RSVP\, email\nigctr@mdanderson.org
URL:https://www.gulfcoastconsortia.org/event/how-to-get-started-in-ai/
LOCATION:MD Anderson\, Faculty Center Tower (FCT)\, Floor 3\, Rooms 2 & 7\, United States
CATEGORIES:GCCTI
END:VEVENT
END:VCALENDAR