BEGIN:VCALENDAR
VERSION:2.0
PRODID:-//Gulf Coast Consortia - ECPv6.15.18//NONSGML v1.0//EN
CALSCALE:GREGORIAN
METHOD:PUBLISH
X-WR-CALNAME:Gulf Coast Consortia
X-ORIGINAL-URL:https://www.gulfcoastconsortia.org
X-WR-CALDESC:Events for Gulf Coast Consortia
REFRESH-INTERVAL;VALUE=DURATION:PT1H
X-Robots-Tag:noindex
X-PUBLISHED-TTL:PT1H
BEGIN:VTIMEZONE
TZID:America/Chicago
BEGIN:DAYLIGHT
TZOFFSETFROM:-0600
TZOFFSETTO:-0500
TZNAME:CDT
DTSTART:20220313T080000
END:DAYLIGHT
BEGIN:STANDARD
TZOFFSETFROM:-0500
TZOFFSETTO:-0600
TZNAME:CST
DTSTART:20221106T070000
END:STANDARD
BEGIN:DAYLIGHT
TZOFFSETFROM:-0600
TZOFFSETTO:-0500
TZNAME:CDT
DTSTART:20230312T080000
END:DAYLIGHT
BEGIN:STANDARD
TZOFFSETFROM:-0500
TZOFFSETTO:-0600
TZNAME:CST
DTSTART:20231105T070000
END:STANDARD
BEGIN:DAYLIGHT
TZOFFSETFROM:-0600
TZOFFSETTO:-0500
TZNAME:CDT
DTSTART:20240310T080000
END:DAYLIGHT
BEGIN:STANDARD
TZOFFSETFROM:-0500
TZOFFSETTO:-0600
TZNAME:CST
DTSTART:20241103T070000
END:STANDARD
END:VTIMEZONE
BEGIN:VEVENT
DTSTART;TZID=America/Chicago:20231017T090000
DTEND;TZID=America/Chicago:20231017T103000
DTSTAMP:20260421T064210
CREATED:20230905T191307Z
LAST-MODIFIED:20230905T191831Z
UID:10000859-1697533200-1697538600@www.gulfcoastconsortia.org
SUMMARY:Center for Neuroregeneration Lecture Series: Cell and Molecular Events Leading to Age-Related Neurodegenerative Disease with Fred H. Gage\, PhD\, The Salk Institute
DESCRIPTION:Please join us for the Center for Neuroregeneration Lecture Series: Cell and Molecular Events Leading to Age-Related Neurodegenerative Disease with Fred H. Gage\, PhD\, The Salk Institute.Age is the greatest risk for age-related neurodegenerative disease. In Cell and Molecular Events Leading to Age-Related Neurodegenerative Disease\, Fred H. (Rusty) Gage will discuss his team’s work using direct conversion of primarily sporadic Alzheimer’s disease patient fibroblasts into induced neurons (iNs) to generate an age-equivalent neuronal model. Patient-derived iNs exhibit strong Alzheimer’s disease-specific transcriptome neuronal signatures characterized by down-regulation of mature functional and morphological properties and up-regulation of immature neuronal and neural stem cell-associated pathways.\n\n\n\nClick Here for More InformationWhen: October 17\, 2023\, from 9-10:30 am (CDT)Where:  Houston Methodist Research Institute\, RI Auditorium             6670 Bertner Avenue\, Houston\, TX\n\n\n\nContact: Dee Lofton\, dloftin@houstonmethodist.org
URL:https://www.gulfcoastconsortia.org/event/center-for-neuroregeneration-lecture-series-cell-and-molecular-events-leading-to-age-related-neurodegenerative-disease-with-fred-h-gage-phd-the-salk-institute/
LOCATION:Houston Methodist Research Institute\, 6670 Bertner Avenue\, Houston\, Texas
CATEGORIES:GCCRM
ATTACH;FMTTYPE=image/jpeg:https://www.gulfcoastconsortia.org/wp-content/uploads/2023/09/Center-for-Neuroregeneration-Lecture-Series.jpg
END:VEVENT
END:VCALENDAR