BEGIN:VCALENDAR
VERSION:2.0
PRODID:-//Gulf Coast Consortia - ECPv6.15.18//NONSGML v1.0//EN
CALSCALE:GREGORIAN
METHOD:PUBLISH
X-ORIGINAL-URL:https://www.gulfcoastconsortia.org
X-WR-CALDESC:Events for Gulf Coast Consortia
REFRESH-INTERVAL;VALUE=DURATION:PT1H
X-Robots-Tag:noindex
X-PUBLISHED-TTL:PT1H
BEGIN:VTIMEZONE
TZID:America/Chicago
BEGIN:DAYLIGHT
TZOFFSETFROM:-0600
TZOFFSETTO:-0500
TZNAME:CDT
DTSTART:20220313T080000
END:DAYLIGHT
BEGIN:STANDARD
TZOFFSETFROM:-0500
TZOFFSETTO:-0600
TZNAME:CST
DTSTART:20221106T070000
END:STANDARD
BEGIN:DAYLIGHT
TZOFFSETFROM:-0600
TZOFFSETTO:-0500
TZNAME:CDT
DTSTART:20230312T080000
END:DAYLIGHT
BEGIN:STANDARD
TZOFFSETFROM:-0500
TZOFFSETTO:-0600
TZNAME:CST
DTSTART:20231105T070000
END:STANDARD
BEGIN:DAYLIGHT
TZOFFSETFROM:-0600
TZOFFSETTO:-0500
TZNAME:CDT
DTSTART:20240310T080000
END:DAYLIGHT
BEGIN:STANDARD
TZOFFSETFROM:-0500
TZOFFSETTO:-0600
TZNAME:CST
DTSTART:20241103T070000
END:STANDARD
END:VTIMEZONE
BEGIN:VEVENT
DTSTART;TZID=America/Chicago:20230327T110000
DTEND;TZID=America/Chicago:20230327T160000
DTSTAMP:20260420T025345
CREATED:20230303T192701Z
LAST-MODIFIED:20230303T192702Z
UID:10001046-1679914800-1679932800@www.gulfcoastconsortia.org
SUMMARY:HOUSTON REFUGEE HEALTH RESEARCH SYMPOSIUM
DESCRIPTION:Advancing Mental Health and Cancer Research while Promoting EquitableHealth Care Among Refugees \n\n\n\nOpening Address: Bettina Beech\, DrPH.\, MPH\, Chief Population Officer\, University of HoustonKeynote Speaker: Rana Dajani\, Ph.D.\, Professor\, Hashemite University/Research Affiliate\, MIT Refugee Action Hub/Visiting Professor\, Harvard University \n\n\n\nRegister Here \n\n\n\nSubmit Abstract Here
URL:https://www.gulfcoastconsortia.org/event/houston-refugee-health-research-symposium/
LOCATION:Elizabeth D. Rockwell Pavilion\, MD Anderson Library\, 4333 University Drive\, Houston\, 77204
CATEGORIES:GCCMHR
ATTACH;FMTTYPE=image/png:https://www.gulfcoastconsortia.org/wp-content/uploads/2023/03/Refugee-Symposium-2023-png.png
END:VEVENT
END:VCALENDAR