BEGIN:VCALENDAR
VERSION:2.0
PRODID:-//Gulf Coast Consortia - ECPv6.15.18//NONSGML v1.0//EN
CALSCALE:GREGORIAN
METHOD:PUBLISH
X-WR-CALNAME:Gulf Coast Consortia
X-ORIGINAL-URL:https://www.gulfcoastconsortia.org
X-WR-CALDESC:Events for Gulf Coast Consortia
REFRESH-INTERVAL;VALUE=DURATION:PT1H
X-Robots-Tag:noindex
X-PUBLISHED-TTL:PT1H
BEGIN:VTIMEZONE
TZID:America/Chicago
BEGIN:DAYLIGHT
TZOFFSETFROM:-0600
TZOFFSETTO:-0500
TZNAME:CDT
DTSTART:20170312T080000
END:DAYLIGHT
BEGIN:STANDARD
TZOFFSETFROM:-0500
TZOFFSETTO:-0600
TZNAME:CST
DTSTART:20171105T070000
END:STANDARD
BEGIN:DAYLIGHT
TZOFFSETFROM:-0600
TZOFFSETTO:-0500
TZNAME:CDT
DTSTART:20180311T080000
END:DAYLIGHT
BEGIN:STANDARD
TZOFFSETFROM:-0500
TZOFFSETTO:-0600
TZNAME:CST
DTSTART:20181104T070000
END:STANDARD
BEGIN:DAYLIGHT
TZOFFSETFROM:-0600
TZOFFSETTO:-0500
TZNAME:CDT
DTSTART:20190310T080000
END:DAYLIGHT
BEGIN:STANDARD
TZOFFSETFROM:-0500
TZOFFSETTO:-0600
TZNAME:CST
DTSTART:20191103T070000
END:STANDARD
END:VTIMEZONE
BEGIN:VEVENT
DTSTART;TZID=America/Chicago:20180924T080000
DTEND;TZID=America/Chicago:20180924T170000
DTSTAMP:20260421T141928
CREATED:20190521T231714Z
LAST-MODIFIED:20190521T232015Z
UID:10000639-1537776000-1537808400@www.gulfcoastconsortia.org
SUMMARY:Soft and Stretchy Electronics: From Engineering Science to Biomedical Applications
DESCRIPTION:Part of the Houston Methodist Research Institute Center for Neuroregeneration Lecture Series\n\n\n\n[vc_btn title=”Guide and Agenda” shape=”square” color=”peacoc” align=”center” button_block=”true” link=”url:%2Fwp-content%2Fuploads%2Fpdf%2FHMRI-092418-Cunjiang_Yu-copy.pdf||target:%20_blank|”]
URL:https://www.gulfcoastconsortia.org/event/kavli-sensing-the-future-workshop-i-2-2-2/
LOCATION:Houston Methodist Hospital\, 6565 Fannin St\, Houston\, Texas\, 77030\, United States
CATEGORIES:GCCRMP
ATTACH;FMTTYPE=image/jpeg:https://www.gulfcoastconsortia.org/wp-content/uploads/2019/05/0116_KAVLI-sensor-b-1bew15q-TOP-HALF.jpg
ORGANIZER;CN="Gulf Coast Consortia":MAILTO:dawnkoob@rice.edu
END:VEVENT
END:VCALENDAR