BEGIN:VCALENDAR
VERSION:2.0
PRODID:-//Gulf Coast Consortia - ECPv6.15.18//NONSGML v1.0//EN
CALSCALE:GREGORIAN
METHOD:PUBLISH
X-ORIGINAL-URL:https://www.gulfcoastconsortia.org
X-WR-CALDESC:Events for Gulf Coast Consortia
REFRESH-INTERVAL;VALUE=DURATION:PT1H
X-Robots-Tag:noindex
X-PUBLISHED-TTL:PT1H
BEGIN:VTIMEZONE
TZID:America/Chicago
BEGIN:DAYLIGHT
TZOFFSETFROM:-0600
TZOFFSETTO:-0500
TZNAME:CDT
DTSTART:20230312T080000
END:DAYLIGHT
BEGIN:STANDARD
TZOFFSETFROM:-0500
TZOFFSETTO:-0600
TZNAME:CST
DTSTART:20231105T070000
END:STANDARD
BEGIN:DAYLIGHT
TZOFFSETFROM:-0600
TZOFFSETTO:-0500
TZNAME:CDT
DTSTART:20240310T080000
END:DAYLIGHT
BEGIN:STANDARD
TZOFFSETFROM:-0500
TZOFFSETTO:-0600
TZNAME:CST
DTSTART:20241103T070000
END:STANDARD
BEGIN:DAYLIGHT
TZOFFSETFROM:-0600
TZOFFSETTO:-0500
TZNAME:CDT
DTSTART:20250309T080000
END:DAYLIGHT
BEGIN:STANDARD
TZOFFSETFROM:-0500
TZOFFSETTO:-0600
TZNAME:CST
DTSTART:20251102T070000
END:STANDARD
END:VTIMEZONE
BEGIN:VEVENT
DTSTART;TZID=America/Chicago:20241203T160000
DTEND;TZID=America/Chicago:20241203T180000
DTSTAMP:20260420T125726
CREATED:20241113T160600Z
LAST-MODIFIED:20241113T160727Z
UID:10001150-1733241600-1733248800@www.gulfcoastconsortia.org
SUMMARY:GCC IDDD and BioHouston BioConnect Holiday Party with Portal Innovations
DESCRIPTION:We invite all healthcare technology innovators\, entrepreneurs\, and biotech stakeholders to join us for the December 3 BioConnect\, which will take place at Portal Innovations\, 7255 Helix Park Avenue\, Houston\, TX 77030\, TMC3 Building\, from 4-6 pm. \n\n\n\nBioConnect promotes collaboration among academic and industry innovators and key stakeholders within our growing biotech ecosystem. This monthly networking event is hosted by one of our exceptional technology development resources and will feature local biotech companies. All career levels (e.g.\, students and postdocs) are welcome.
URL:https://www.gulfcoastconsortia.org/event/gcc-iddd-and-biohouston-bioconnect-holiday-party-with-portal-innovations/
LOCATION:Maryland
CATEGORIES:GCCIDDD
ATTACH;FMTTYPE=image/jpeg:https://www.gulfcoastconsortia.org/wp-content/uploads/2024/11/12-3-24-BioConnect-Flyer-scaled.jpg
END:VEVENT
BEGIN:VEVENT
DTSTART;TZID=America/Chicago:20241212T153000
DTEND;TZID=America/Chicago:20241212T170000
DTSTAMP:20260420T125726
CREATED:20241113T160353Z
LAST-MODIFIED:20241119T205357Z
UID:10001149-1734017400-1734022800@www.gulfcoastconsortia.org
SUMMARY:IDDD Roundtable Workshop: Advanced Imaging in Drug Discovery
DESCRIPTION:Presented by the GCC Innovative Drug Discovery and Development Consortia\, the GCC Cancer Therapeutics Training Program (CTTP)\, and the GCC Innovative Drug Discovery and Development Scholars Program\, we invite you to join us for the December GCC IDDD Round Table Workshop: Advanced Imaging in Drug Discover\, featuring Melody Di Bona\, Memorial Sloan Kettering Cancer Center\, and Michael Bolt\, Baylor College of Medicine. The workshop will be held online via Zoom webinar. \n\n\n\nAgenda3:30-4:00 Phenotypic Screening Identifies Flavonoids Toxic to Bladder CancerMichael Bolt\, Baylor College of Medicine4:00-4:30 Mitochondrial ROS Drive Cancer Progression Through Micronuclear RuptureMelody Di Bone\, Memorial Sloan Kettering Cancer Center \n\n\n\n4:30-5:00 Q&A round table discussion
URL:https://www.gulfcoastconsortia.org/event/iddd-roundtable-workshop-advanced-imaging-in-drug-discovery/
LOCATION:Maryland
CATEGORIES:GCCIDDD
ATTACH;FMTTYPE=image/jpeg:https://www.gulfcoastconsortia.org/wp-content/uploads/2024/11/Dec-12-2024-Roundtable-Flyer-IDDD-1.jpg
END:VEVENT
END:VCALENDAR