BEGIN:VCALENDAR
VERSION:2.0
PRODID:-//Gulf Coast Consortia - ECPv6.15.18//NONSGML v1.0//EN
CALSCALE:GREGORIAN
METHOD:PUBLISH
X-ORIGINAL-URL:https://www.gulfcoastconsortia.org
X-WR-CALDESC:Events for Gulf Coast Consortia
REFRESH-INTERVAL;VALUE=DURATION:PT1H
X-Robots-Tag:noindex
X-PUBLISHED-TTL:PT1H
BEGIN:VTIMEZONE
TZID:America/Chicago
BEGIN:DAYLIGHT
TZOFFSETFROM:-0600
TZOFFSETTO:-0500
TZNAME:CDT
DTSTART:20230312T080000
END:DAYLIGHT
BEGIN:STANDARD
TZOFFSETFROM:-0500
TZOFFSETTO:-0600
TZNAME:CST
DTSTART:20231105T070000
END:STANDARD
BEGIN:DAYLIGHT
TZOFFSETFROM:-0600
TZOFFSETTO:-0500
TZNAME:CDT
DTSTART:20240310T080000
END:DAYLIGHT
BEGIN:STANDARD
TZOFFSETFROM:-0500
TZOFFSETTO:-0600
TZNAME:CST
DTSTART:20241103T070000
END:STANDARD
BEGIN:DAYLIGHT
TZOFFSETFROM:-0600
TZOFFSETTO:-0500
TZNAME:CDT
DTSTART:20250309T080000
END:DAYLIGHT
BEGIN:STANDARD
TZOFFSETFROM:-0500
TZOFFSETTO:-0600
TZNAME:CST
DTSTART:20251102T070000
END:STANDARD
END:VTIMEZONE
BEGIN:VEVENT
DTSTART;TZID=America/Chicago:20241105T160000
DTEND;TZID=America/Chicago:20241105T180000
DTSTAMP:20260420T142146
CREATED:20240926T134930Z
LAST-MODIFIED:20241025T125830Z
UID:10001141-1730822400-1730829600@www.gulfcoastconsortia.org
SUMMARY:Jr. Faculty Editors Workshop: How to Publish with Cell Press
DESCRIPTION:The GCC Jr. Faculty group welcomes Swapnika Ramu from Med\, Cell Press\, who will present a talk on How to Publish with  Cell Press. The workshop\, open to all career levels\, will take place at the Bioscience Research Collaborative\, 6500 Main St.\, Houston\, TX 77030\, Room 1003\, on Nov. 5\, 2024\, from 4-6 pm (CST).  A Q&A session and reception will follow the presentation. 
URL:https://www.gulfcoastconsortia.org/event/jr-faculty-editors-workshop-how-to-publish-with-cell-press/
LOCATION:Bioscience Research Collaborative (BRC) Room 1003\, 6500 Main Street\, Room 1003\, Houston\, Texas\, 77030\, United States
CATEGORIES:GCCJFR
ATTACH;FMTTYPE=image/png:https://www.gulfcoastconsortia.org/wp-content/uploads/2024/09/Editors-Jr-Fac-workshop-11-5-24.png
END:VEVENT
BEGIN:VEVENT
DTSTART;TZID=America/Chicago:20241107T171500
DTEND;TZID=America/Chicago:20241107T180000
DTSTAMP:20260420T142146
CREATED:20241021T125330Z
LAST-MODIFIED:20241021T125331Z
UID:10001146-1730999700-1731002400@www.gulfcoastconsortia.org
SUMMARY:GCC IDDD and BioHouston BioConnect at Texas Life Science Forum
DESCRIPTION:We invite you to join us for BioConnect on November 7th\, which will take place with the Texas Life Science Forum reception at 5:15. If you register for the Texas Life Science Forum\, you can automatically attend BioConnect.  Texas Life Science Forum is a fantastic conference\, and we highly encourage all to attend. Register here.
URL:https://www.gulfcoastconsortia.org/event/gcc-iddd-and-biohouston-bioconnect-at-texas-life-science-forum/
LOCATION:BioScience Research Collaborative Auditorium\, 6500 Main St\, Houston\, Texas\, 77030\, United States
CATEGORIES:GCCIDDD
ATTACH;FMTTYPE=image/jpeg:https://www.gulfcoastconsortia.org/wp-content/uploads/2024/10/11-7-24-BioConnet-Flyer-scaled.jpg
END:VEVENT
BEGIN:VEVENT
DTSTART;TZID=America/Chicago:20241112T090000
DTEND;TZID=America/Chicago:20241113T140000
DTSTAMP:20260420T142146
CREATED:20240910T120555Z
LAST-MODIFIED:20240910T120832Z
UID:10001135-1731402000-1731506400@www.gulfcoastconsortia.org
SUMMARY:5th Annual GCC Cellular and Molecular Biophysics Conference
DESCRIPTION:Confirmed keynote presenters Steven McKnight\, UT Southwestern; and Cecilia Tommos\, Texas A&M Univ. More information can be found on the conference website.  Register here.
URL:https://www.gulfcoastconsortia.org/event/5th-annual-gcc-cellular-and-molecular-biophysics-conference/
LOCATION:BioScience Research Collaborative Auditorium\, 6500 Main St\, Houston\, Texas\, 77030\, United States
CATEGORIES:GCCCMB
ATTACH;FMTTYPE=image/jpeg:https://www.gulfcoastconsortia.org/wp-content/uploads/2024/09/Flyer-CMB24.jpg
END:VEVENT
BEGIN:VEVENT
DTSTART;TZID=America/Chicago:20241114T160000
DTEND;TZID=America/Chicago:20241114T173000
DTSTAMP:20260420T142146
CREATED:20241004T160213Z
LAST-MODIFIED:20241004T160215Z
UID:10001144-1731600000-1731605400@www.gulfcoastconsortia.org
SUMMARY:Save the Date: Sexual Health and HIV/STD Prevention
DESCRIPTION:Save the Date for the Sexual Health and HIV/STD Prevention Seminar
URL:https://www.gulfcoastconsortia.org/event/save-the-date-sexual-health-and-hiv-std-prevention/
LOCATION:Maryland
CATEGORIES:GCCDDCEH
ATTACH;FMTTYPE=image/jpeg:https://www.gulfcoastconsortia.org/wp-content/uploads/2024/10/CBMHR-10.04.24.jpg
END:VEVENT
BEGIN:VEVENT
DTSTART;TZID=America/Chicago:20241115T130000
DTEND;TZID=America/Chicago:20241115T140000
DTSTAMP:20260420T142146
CREATED:20241028T111525Z
LAST-MODIFIED:20241101T140301Z
UID:10001147-1731675600-1731679200@www.gulfcoastconsortia.org
SUMMARY:#Pain2024 Workshop: A chat with Tony Yaksh\,  if we can get a word in edgewise
DESCRIPTION:We invite you to register for our Nov. 15 #Pain2024\, workshop\, Featuring a fireside chat with Tony L. Yaksh\, Univ. of California\, San Diego. Moderated by Patrick Dougherty\, MD Anderson Cancer Center. 
URL:https://www.gulfcoastconsortia.org/event/pain-workshop-perspectives-and-recollections-of-pain-research/
LOCATION:Maryland
CATEGORIES:GCCTPR
END:VEVENT
BEGIN:VEVENT
DTSTART;TZID=America/Chicago:20241120T120000
DTEND;TZID=America/Chicago:20241120T130000
DTSTAMP:20260420T142146
CREATED:20241111T153851Z
LAST-MODIFIED:20241111T153853Z
UID:10001148-1732104000-1732107600@www.gulfcoastconsortia.org
SUMMARY:TSU-BCM P20 Collaborative Union for Cancer\, Research\, Education\, and Disparities (CURED) Presents Webinar: Enrollment and Retention of Racial and Ethnic Minority in Clinical Research
DESCRIPTION:Join us on Wednesday\, November 20\, 2024 at 12 PM for an insightful webinar on Enrollment and Retention of Racial and Ethnic Minority in Clinical Research. \n\n\n\nWhat to expect:– Thought-provoking discussion on Clinical Trial Research and Participation.– Expert speakers.– A live Q&A session. \n\n\n\n \n\n\n\nRegister Here: https://linktr.ee/tsubcmp20cured
URL:https://www.gulfcoastconsortia.org/event/tsu-bcm-p20-collaborative-union-for-cancer-research-education-and-disparities-cured-presents-webinar-enrollment-and-retention-of-racial-and-ethnic-minority-in-clinical-research/
LOCATION:Maryland
CATEGORIES:GCCDDCEH
ATTACH;FMTTYPE=image/jpeg:https://www.gulfcoastconsortia.org/wp-content/uploads/2024/11/CBMHR-3.jpg
END:VEVENT
BEGIN:VEVENT
DTSTART;TZID=America/Chicago:20241121T163000
DTEND;TZID=America/Chicago:20241121T183000
DTSTAMP:20260420T142146
CREATED:20241010T190227Z
LAST-MODIFIED:20241010T190228Z
UID:10001143-1732206600-1732213800@www.gulfcoastconsortia.org
SUMMARY:GCC TPR Social and Work in Progress
DESCRIPTION:We invite you to register for the GCC TPR Works In Progress and networking event on Nov. 21\, 2024\, from 4:30-6:30 pm at the BioScience Research Collaborative Event Hall. Do not miss this opportunity to network and build new collaborations and to hear the latest updates in pain research. You will have the opportunity to sign up for a poster slot during registration.
URL:https://www.gulfcoastconsortia.org/event/gcc-tpr-social-and-work-in-progress/
LOCATION:Maryland
CATEGORIES:GCCTPR
ATTACH;FMTTYPE=image/png:https://www.gulfcoastconsortia.org/wp-content/uploads/2024/09/Flyer-TPR-Social-Nov.-2024.png
END:VEVENT
END:VCALENDAR