BEGIN:VCALENDAR
VERSION:2.0
PRODID:-//Gulf Coast Consortia - ECPv6.15.18//NONSGML v1.0//EN
CALSCALE:GREGORIAN
METHOD:PUBLISH
X-WR-CALNAME:Gulf Coast Consortia
X-ORIGINAL-URL:https://www.gulfcoastconsortia.org
X-WR-CALDESC:Events for Gulf Coast Consortia
REFRESH-INTERVAL;VALUE=DURATION:PT1H
X-Robots-Tag:noindex
X-PUBLISHED-TTL:PT1H
BEGIN:VTIMEZONE
TZID:America/Chicago
BEGIN:DAYLIGHT
TZOFFSETFROM:-0600
TZOFFSETTO:-0500
TZNAME:CDT
DTSTART:20230312T080000
END:DAYLIGHT
BEGIN:STANDARD
TZOFFSETFROM:-0500
TZOFFSETTO:-0600
TZNAME:CST
DTSTART:20231105T070000
END:STANDARD
BEGIN:DAYLIGHT
TZOFFSETFROM:-0600
TZOFFSETTO:-0500
TZNAME:CDT
DTSTART:20240310T080000
END:DAYLIGHT
BEGIN:STANDARD
TZOFFSETFROM:-0500
TZOFFSETTO:-0600
TZNAME:CST
DTSTART:20241103T070000
END:STANDARD
BEGIN:DAYLIGHT
TZOFFSETFROM:-0600
TZOFFSETTO:-0500
TZNAME:CDT
DTSTART:20250309T080000
END:DAYLIGHT
BEGIN:STANDARD
TZOFFSETFROM:-0500
TZOFFSETTO:-0600
TZNAME:CST
DTSTART:20251102T070000
END:STANDARD
END:VTIMEZONE
BEGIN:VEVENT
DTSTART;TZID=America/Chicago:20241001T160000
DTEND;TZID=America/Chicago:20241001T180000
DTSTAMP:20260420T160231
CREATED:20240924T110811Z
LAST-MODIFIED:20240924T114913Z
UID:10001139-1727798400-1727805600@www.gulfcoastconsortia.org
SUMMARY:GCC IDDD and BioHouston BioConnect\, Oct. 1\, 2024
DESCRIPTION:We invite all healthcare technology innovators\, entrepreneurs\, and biotech stakeholders to join us for the October 1 BioConnect. BioConnect promotes collaboration among academic and industry innovators and key stakeholders within our growing biotech ecosystem. This monthly networking event is hosted by one of our exceptional technology development resources and will feature local biotech companies. All career levels (e.g.\, students and postdocs) are welcome. \n\n\n\nThis month’s BioConnect will take place on Oct. 1\, 2024\, from 4:00-6:00 pmK2Biolabs2710 Reed Road\, Ste. 160Houston\, TX 77051
URL:https://www.gulfcoastconsortia.org/event/gcc-iddd-and-biohouston-bioconnect-oct-1-2024/
LOCATION:Maryland
CATEGORIES:GCCIDDD
ATTACH;FMTTYPE=image/jpeg:https://www.gulfcoastconsortia.org/wp-content/uploads/2024/09/October-2024-BioConnect-Flyer-scaled.jpg
END:VEVENT
BEGIN:VEVENT
DTSTART;TZID=America/Chicago:20241002T091500
DTEND;TZID=America/Chicago:20241002T150000
DTSTAMP:20260420T160231
CREATED:20240822T120801Z
LAST-MODIFIED:20240822T121021Z
UID:10001133-1727860500-1727881200@www.gulfcoastconsortia.org
SUMMARY:Rigor and Reproducibility Workshop\, Oct. 2\, 2024
DESCRIPTION:This exciting workshop is the 1st place winner of the Association of American Medical Colleges 2017 Innovations in Research and Research Education Award and brings together highly acclaimed experts in rigor and reproducibility in research topics\, such as data analysis\, experimental design\, resource sharing\, publication\, reporting\, and more.  With speakers and facilitators from GCC institutions\, this interactive workshop has proven effective and fun. 
URL:https://www.gulfcoastconsortia.org/event/rigor-and-reproducibility-workshop-oct-2-2024/
LOCATION:Bioscience Research Collaborative (BRC) Room 1003\, 6500 Main Street\, Room 1003\, Houston\, Texas\, 77030\, United States
CATEGORIES:GCCRRR
ATTACH;FMTTYPE=image/jpeg:https://www.gulfcoastconsortia.org/wp-content/uploads/2024/08/Flyer-Oct-2-2024-Rigor-1-scaled.jpg
END:VEVENT
BEGIN:VEVENT
DTSTART;TZID=America/Chicago:20241016T000000
DTEND;TZID=America/Chicago:20241016T235959
DTSTAMP:20260420T160231
CREATED:20240202T133539Z
LAST-MODIFIED:20240822T121746Z
UID:10001110-1729036800-1729123199@www.gulfcoastconsortia.org
SUMMARY:GCC Single Cell & Spatial Omics Symposium
DESCRIPTION:Confirmed keynote presenters: Alexandrea-Chloe Villani\, Harvard Univ.\, and Devin Lawson\, Univ. of California\, Irvine. Other confirmed presenters include Hussein A. Abbas\, MD Anderson Cancer Center; Kristopher W. Brannan\, Houston Methodist Research Institute; Jessica Butts\, Rice Univ.; Shengqing Gu\, MD Anderson Cancer Center; Anil Korkut\, MD Anderson Cancer Center. More information can be found on the symposium website.
URL:https://www.gulfcoastconsortia.org/event/save-the-date-5th-annual-gcc-single-cell-omics-symposium/
LOCATION:Bioscience Research Collaborative (BRC)\, 6500 Main Street\, Auditorium\, Houston\, TX\, 77030\, United States
CATEGORIES:GCCSCO
ATTACH;FMTTYPE=image/jpeg:https://www.gulfcoastconsortia.org/wp-content/uploads/2024/02/Flyer-SCO24.jpg
END:VEVENT
BEGIN:VEVENT
DTSTART;TZID=America/Chicago:20241018T080000
DTEND;TZID=America/Chicago:20241018T170000
DTSTAMP:20260420T160231
CREATED:20231117T130206Z
LAST-MODIFIED:20231117T130207Z
UID:10001092-1729238400-1729270800@www.gulfcoastconsortia.org
SUMMARY:Save the Date: We Roar Against Breast Cancer
DESCRIPTION:We Roar Against Breast Cancer Video
URL:https://www.gulfcoastconsortia.org/event/save-the-date-we-roar-against-breast-cancer/
LOCATION:Maryland
CATEGORIES:GCCDDCEH
ATTACH;FMTTYPE=image/png:https://www.gulfcoastconsortia.org/wp-content/uploads/2023/11/We-Roar-Against-Breast-Cancer-10.18.24.png
END:VEVENT
BEGIN:VEVENT
DTSTART;TZID=America/Chicago:20241018T130000
DTEND;TZID=America/Chicago:20241018T140000
DTSTAMP:20260420T160231
CREATED:20240924T115152Z
LAST-MODIFIED:20240924T142523Z
UID:10001140-1729256400-1729260000@www.gulfcoastconsortia.org
SUMMARY:#Pain 2024 Workshop Featuring Rita Allen Scholars\, October 18
DESCRIPTION:October #Pain 2024 workshop featuring Rita Allen Scholars Seungwon (Sebastian) Choi\, University of Texas Southwestern\, and William Renthal\, Harvard University.  The workshop will take place from 1-2 pm\, October 18 online via Zoom webinar.
URL:https://www.gulfcoastconsortia.org/event/pain-2024-workshop-featuring-rita-allen-scholars-october-18/
LOCATION:Maryland
CATEGORIES:GCCTPR
ATTACH;FMTTYPE=image/jpeg:https://www.gulfcoastconsortia.org/wp-content/uploads/2024/09/Pain-Flyer-10-18-24-scaled.jpg
END:VEVENT
BEGIN:VEVENT
DTSTART;TZID=America/Chicago:20241025T080000
DTEND;TZID=America/Chicago:20241025T170000
DTSTAMP:20260420T160231
CREATED:20240605T185932Z
LAST-MODIFIED:20240605T185942Z
UID:10001128-1729843200-1729875600@www.gulfcoastconsortia.org
SUMMARY:34th Keck Annual Research Conference
DESCRIPTION:Machine Learning and Computation in Structural Biology
URL:https://www.gulfcoastconsortia.org/event/34th-keck-annual-research-conference/
LOCATION:Maryland
END:VEVENT
END:VCALENDAR