BEGIN:VCALENDAR
VERSION:2.0
PRODID:-//Gulf Coast Consortia - ECPv6.15.18//NONSGML v1.0//EN
CALSCALE:GREGORIAN
METHOD:PUBLISH
X-ORIGINAL-URL:https://www.gulfcoastconsortia.org
X-WR-CALDESC:Events for Gulf Coast Consortia
REFRESH-INTERVAL;VALUE=DURATION:PT1H
X-Robots-Tag:noindex
X-PUBLISHED-TTL:PT1H
BEGIN:VTIMEZONE
TZID:America/Chicago
BEGIN:DAYLIGHT
TZOFFSETFROM:-0600
TZOFFSETTO:-0500
TZNAME:CDT
DTSTART:20220313T080000
END:DAYLIGHT
BEGIN:STANDARD
TZOFFSETFROM:-0500
TZOFFSETTO:-0600
TZNAME:CST
DTSTART:20221106T070000
END:STANDARD
BEGIN:DAYLIGHT
TZOFFSETFROM:-0600
TZOFFSETTO:-0500
TZNAME:CDT
DTSTART:20230312T080000
END:DAYLIGHT
BEGIN:STANDARD
TZOFFSETFROM:-0500
TZOFFSETTO:-0600
TZNAME:CST
DTSTART:20231105T070000
END:STANDARD
BEGIN:DAYLIGHT
TZOFFSETFROM:-0600
TZOFFSETTO:-0500
TZNAME:CDT
DTSTART:20240310T080000
END:DAYLIGHT
BEGIN:STANDARD
TZOFFSETFROM:-0500
TZOFFSETTO:-0600
TZNAME:CST
DTSTART:20241103T070000
END:STANDARD
END:VTIMEZONE
BEGIN:VEVENT
DTSTART;TZID=America/Chicago:20231103T160000
DTEND;TZID=America/Chicago:20231103T170000
DTSTAMP:20260424T211556
CREATED:20230706T151516Z
LAST-MODIFIED:20230908T185012Z
UID:10001061-1699027200-1699030800@www.gulfcoastconsortia.org
SUMMARY:Keck Seminar\, Peter Lwigale\, PhD
DESCRIPTION:Peter Lwigale\, PhDAssociate Professor\, Dept. of Biosciences\, Rice UniversityInnovation and Diversity Speaker \n\n\n\n\n\n\n\nTitle: Cellular and Molecular Mechanisms of Ocular Development
URL:https://www.gulfcoastconsortia.org/event/keck-seminar-peter-lwigale-phd/
LOCATION:Maryland
CATEGORIES:Keck Seminar Fall 2023
END:VEVENT
BEGIN:VEVENT
DTSTART;TZID=America/Chicago:20231109T153000
DTEND;TZID=America/Chicago:20231109T170000
DTSTAMP:20260424T211556
CREATED:20231027T204434Z
LAST-MODIFIED:20231027T204544Z
UID:10001085-1699543800-1699549200@www.gulfcoastconsortia.org
SUMMARY:IDDD Round Table: Automated Imaging and Analysis in Cancer Cell Biology\, Nov. 9\, 2023
DESCRIPTION:Presented by the GCC Innovative Drug Discovery and Development Consortia and the GCC Center for Advanced Microscopy and Image Informatics\, we invite you to register for the GCC IDDD Round Table Workshop: Automated Imaging and Analysis in Cancer Cell Biology.  \n\n\n\nThis workshop will feature presenters Liling Wan\, Univ. of Pennsylvania\, and Fabio Stossi\, Baylor College of Medicine. The workshop will occur on Thursday\, Nov. 9\, 2023\, from 3:30-5:00 pm CST. 
URL:https://www.gulfcoastconsortia.org/event/iddd-round-table-automated-imaging-and-analysis-in-cancer-cell-biology-nov-9-2023/
LOCATION:Maryland
CATEGORIES:GCCIDDD
ATTACH;FMTTYPE=image/jpeg:https://www.gulfcoastconsortia.org/wp-content/uploads/2023/10/Nov-9-2023-Roundtable-Flyer-IDDD-scaled.jpg
END:VEVENT
BEGIN:VEVENT
DTSTART;TZID=America/Chicago:20231110T143000
DTEND;TZID=America/Chicago:20231110T154500
DTSTAMP:20260424T211556
CREATED:20231027T194824Z
LAST-MODIFIED:20231027T194940Z
UID:10001084-1699626600-1699631100@www.gulfcoastconsortia.org
SUMMARY:Introduction to Manuscript Writing
DESCRIPTION:Introduction to Biomedical Manuscript Writing \n\n\n\nJoin us for “Introduction to Manuscript Writing”. This in-person workshop is intended for PhD students and Postdocs affiliated with Institutions in biomedical science and will provide tips to enhance your writing skills for publication in scientific journals. \n\n\n\nHosted by the Gulf Coast Consortia at the BRC 6500 Main Street 280\, Houston\, TX 77030. This event will take place on Fri\, Nov 10 2023 at 2:30. Come for the biomedical writing seminar and stay for the GCC Keck Seminar at 4:00 pm. \n\n\n\nMark your calendars for this informative event!
URL:https://www.gulfcoastconsortia.org/event/introduction-to-manuscript-writing/
LOCATION:Maryland
END:VEVENT
BEGIN:VEVENT
DTSTART;TZID=America/Chicago:20231110T160000
DTEND;TZID=America/Chicago:20231110T170000
DTSTAMP:20260424T211556
CREATED:20230706T152114Z
LAST-MODIFIED:20230908T185116Z
UID:10001062-1699632000-1699635600@www.gulfcoastconsortia.org
SUMMARY:Keck Seminar\, Danielle Garsin\, PhD
DESCRIPTION:Danielle Garsin\, PhDProfessor\, Dept. of Microbiology and Molecular Genetics\, UTHealth Science Center at Houston \n\n\n\n\n\n\n\nTitle: Deciphering the Antifungal Activity of Enterococcus faecalis Antimicrobial Peptide EntV
URL:https://www.gulfcoastconsortia.org/event/keck-seminar-danielle-garsin-phd/
LOCATION:Maryland
CATEGORIES:Keck Seminar Fall 2023
END:VEVENT
BEGIN:VEVENT
DTSTART;TZID=America/Chicago:20231115T090000
DTEND;TZID=America/Chicago:20231115T170000
DTSTAMP:20260424T211556
CREATED:20230822T195348Z
LAST-MODIFIED:20230822T210616Z
UID:10000850-1700038800-1700067600@www.gulfcoastconsortia.org
SUMMARY:GCC Consortia Cellular and Molecular Biophysics Conference
DESCRIPTION:Confirmed keynote presenters: Jane Dyson\, Scripps Research Institute; and Jane Shelby Richardson\, Duke Univ. 
URL:https://www.gulfcoastconsortia.org/event/gcc-consortia-cellular-and-molecular-biophysics-conference/
LOCATION:BioScience Research Collaborative Auditorium\, 6500 Main St\, Houston\, Texas\, 77030\, United States
CATEGORIES:GCCCMB
ATTACH;FMTTYPE=image/png:https://www.gulfcoastconsortia.org/wp-content/uploads/2023/08/Flyer-CMB23-1.png
END:VEVENT
BEGIN:VEVENT
DTSTART;TZID=America/Chicago:20231115T160000
DTEND;TZID=America/Chicago:20231115T180000
DTSTAMP:20260424T211556
CREATED:20231102T163216Z
LAST-MODIFIED:20231102T163217Z
UID:10001086-1700064000-1700071200@www.gulfcoastconsortia.org
SUMMARY:
DESCRIPTION:The next edition of the Bayou City Bio Pulse will be taking place at Levit Green on Wednesday\, November 15 from 4 – 6 p.m. This event will give us an overview of the development\, their long-term plan and the impact of state-of-the-art facilities on the Houston life sciences ecosystem. This event is a collaboration between BioHouston\, Hines and the Life Sciences Committee at the Greater Houston Partnership. \n\n\n\nStan Watowich\, PhD\, from Ridgeline Therapeutics and Dr. Yingmin Zhu from Sino Biological will be kicking off the event.
URL:https://www.gulfcoastconsortia.org/event/30016/
LOCATION:Levit Green\, 2505 Greensboro Dr.\, Houston\, Texas\, 77021
CATEGORIES:GCCIDDD
ATTACH;FMTTYPE=image/png:https://www.gulfcoastconsortia.org/wp-content/uploads/2023/11/Bayou-City-Bio-Pulse.png
END:VEVENT
BEGIN:VEVENT
DTSTART;TZID=America/Chicago:20231116T083000
DTEND;TZID=America/Chicago:20231116T120000
DTSTAMP:20260424T211556
CREATED:20230928T184158Z
LAST-MODIFIED:20230928T184159Z
UID:10001079-1700123400-1700136000@www.gulfcoastconsortia.org
SUMMARY:AlphaFold and Machine Learning in Structural Biology Workshop
DESCRIPTION:We invite you to register for the AlphaFold and Machine Learning in Structural Biology Workshop\, sponsored by the GCC Cellular and Molecular Biophysics Consortia. This workshop will feature:  \n\n\n\nMatthew Baker\, UT Health Science Center HoustonKelly Churion\, TAMUTasos Kyrillidis\, Rice Univ.Mitch Miller\, Rice Univ.George Phillips\, Rice Univ. \n\n\n\nAt the end of the workshop\, the AlphaFold Challenge Contest will be explained.  Contestants will have two weeks to solve a problem of their choosing using only AlphaFold technologies (no experiments).  Prizes will be Amazon gift cards and bragging rights.
URL:https://www.gulfcoastconsortia.org/event/alphafold-and-machine-learning-in-structural-biology-workshop-2/
LOCATION:BRC Room 280\, 6500 Main St.\, Houston\, Texas\, 77030\, United States
CATEGORIES:GCCCMB
ATTACH;FMTTYPE=image/jpeg:https://www.gulfcoastconsortia.org/wp-content/uploads/2023/09/Flyer-Alphafold-workshop-11-16-23-scaled.jpg
END:VEVENT
BEGIN:VEVENT
DTSTART;TZID=America/Chicago:20231117T160000
DTEND;TZID=America/Chicago:20231117T170000
DTSTAMP:20260424T211556
CREATED:20230706T152459Z
LAST-MODIFIED:20230908T185206Z
UID:10001063-1700236800-1700240400@www.gulfcoastconsortia.org
SUMMARY:Keck Seminar\, Clifford Stephan\, PhD
DESCRIPTION:Clifford Stephan\, PhDResearch Associate Professor\, Director\, High Throughput Research and Screening Center\, Institute of Biosciences and Technology\, Texas A&M University \n\n\n\n\n\n\n\nTitle: The Texas A&M Therapeutics Technology Center
URL:https://www.gulfcoastconsortia.org/event/keck-seminar-clifford-stephan-phd/
LOCATION:Maryland
CATEGORIES:Keck Seminar Fall 2023
END:VEVENT
END:VCALENDAR