BEGIN:VCALENDAR
VERSION:2.0
PRODID:-//Gulf Coast Consortia - ECPv6.15.18//NONSGML v1.0//EN
CALSCALE:GREGORIAN
METHOD:PUBLISH
X-WR-CALNAME:Gulf Coast Consortia
X-ORIGINAL-URL:https://www.gulfcoastconsortia.org
X-WR-CALDESC:Events for Gulf Coast Consortia
REFRESH-INTERVAL;VALUE=DURATION:PT1H
X-Robots-Tag:noindex
X-PUBLISHED-TTL:PT1H
BEGIN:VTIMEZONE
TZID:America/Chicago
BEGIN:DAYLIGHT
TZOFFSETFROM:-0600
TZOFFSETTO:-0500
TZNAME:CDT
DTSTART:20210314T080000
END:DAYLIGHT
BEGIN:STANDARD
TZOFFSETFROM:-0500
TZOFFSETTO:-0600
TZNAME:CST
DTSTART:20211107T070000
END:STANDARD
BEGIN:DAYLIGHT
TZOFFSETFROM:-0600
TZOFFSETTO:-0500
TZNAME:CDT
DTSTART:20220313T080000
END:DAYLIGHT
BEGIN:STANDARD
TZOFFSETFROM:-0500
TZOFFSETTO:-0600
TZNAME:CST
DTSTART:20221106T070000
END:STANDARD
BEGIN:DAYLIGHT
TZOFFSETFROM:-0600
TZOFFSETTO:-0500
TZNAME:CDT
DTSTART:20230312T080000
END:DAYLIGHT
BEGIN:STANDARD
TZOFFSETFROM:-0500
TZOFFSETTO:-0600
TZNAME:CST
DTSTART:20231105T070000
END:STANDARD
END:VTIMEZONE
BEGIN:VEVENT
DTSTART;TZID=America/Chicago:20221202T120000
DTEND;TZID=America/Chicago:20221202T133000
DTSTAMP:20260425T134840
CREATED:20221109T163415Z
LAST-MODIFIED:20221109T163416Z
UID:10000773-1669982400-1669987800@www.gulfcoastconsortia.org
SUMMARY:IDDD Roundtable Workshop
DESCRIPTION:High Content Screening with Automated Microscopy and Image Informatics \n\n\n\n\n\n12-12:50 Accelerating Drug Discovery with Microscopy & Machine LearningAnne E. Carpenter\, PhD \n\n\n\nBroad Institute of Harvard and MIT \n\n\n\n12:50-1:10 Image-based Cell Profiling from Multiplexed Fluorescent Dyes: A Light-weight Deep-learning Implementation \n\n\n\nDemetrio Labate\, PhDUniv. of Houston \n\n\n\n1:10-1:30 Q&A
URL:https://www.gulfcoastconsortia.org/event/iddd-roundtable-workshop/
LOCATION:Maryland
CATEGORIES:GCCIDDD
END:VEVENT
BEGIN:VEVENT
DTSTART;TZID=America/Chicago:20221202T160000
DTEND;TZID=America/Chicago:20221202T170000
DTSTAMP:20260425T134840
CREATED:20220823T174811Z
LAST-MODIFIED:20220906T174101Z
UID:10000996-1669996800-1670000400@www.gulfcoastconsortia.org
SUMMARY:Keck Seminar\, Cathy Higgins\, PhD
DESCRIPTION:Cathy Higgins\, PhDVice President\, Scientific Program Management\, Stand Up To Cancer \n\n\n\n\n\n\n\nTitle: Ways to Leverage Skills Towards a Career in Science Management
URL:https://www.gulfcoastconsortia.org/event/keck-seminar-cathy-higgins-phd-2/
LOCATION:Maryland
CATEGORIES:Keck Seminar Fall 2022
END:VEVENT
BEGIN:VEVENT
DTSTART;TZID=America/Chicago:20221205T133000
DTEND;TZID=America/Chicago:20221205T161500
DTSTAMP:20260425T134840
CREATED:20221108T231748Z
LAST-MODIFIED:20221108T231748Z
UID:10001017-1670247000-1670256900@www.gulfcoastconsortia.org
SUMMARY:Single Cell Omics Vendor Workshop
DESCRIPTION:We invite you to register (registration closes Dec. 4) for the Single Cell Omics Vendor Workshop. Sponsored by the GCC Single Cell Omics Consortia\, this discussion will take place on Monday\, Dec. 5\, from 1:30-4:15 pm cst. The workshop will include presentations from Michael Schnall-Levin\, 10x Genomics; Clemens Duerrschmid\, Akoya Biosciences; Seth Meyers\, nanoString; and Sayak Mitter\, Vizgen. The panel discussion will be followed by time for Q&A.
URL:https://www.gulfcoastconsortia.org/event/single-cell-omics-vendor-workshop/
LOCATION:Maryland
CATEGORIES:GCCSCO
ATTACH;FMTTYPE=image/png:https://www.gulfcoastconsortia.org/wp-content/uploads/2022/11/Workshop-flyer-Dec-2022-SCO.png
END:VEVENT
BEGIN:VEVENT
DTSTART;TZID=America/Chicago:20221207T090000
DTEND;TZID=America/Chicago:20221207T120000
DTSTAMP:20260425T134840
CREATED:20221102T114948Z
LAST-MODIFIED:20221102T114949Z
UID:10001011-1670403600-1670414400@www.gulfcoastconsortia.org
SUMMARY:AlphaFold and Machine Learning in  Structural Biology Workshop
DESCRIPTION:Sponsored by the GCC Cellular and Molecular Biophysics Consortia\, this workshop will feature: Matt Baker\, UT Health Science Center Houston; Tasos Kyrillidis\, Rice Univ.; Steven Ludtke\, Baylor College of Medicine; Mitch Miller\, Rice Univ.; and George Phillips\, Rice Univ.
URL:https://www.gulfcoastconsortia.org/event/alphafold-and-machine-learning-in-structural-biology-workshop/
LOCATION:Maryland
CATEGORIES:GCCCMB
ATTACH;FMTTYPE=image/png:https://www.gulfcoastconsortia.org/wp-content/uploads/2022/11/cmb-workshop-image-for-flyer.png
END:VEVENT
BEGIN:VEVENT
DTSTART;TZID=America/Chicago:20221212T120000
DTEND;TZID=America/Chicago:20221212T140000
DTSTAMP:20260425T134840
CREATED:20221123T185855Z
LAST-MODIFIED:20221123T185857Z
UID:10000775-1670846400-1670853600@www.gulfcoastconsortia.org
SUMMARY:Monthly Seminar Series on Antibiotic Resistance
DESCRIPTION:The Gulf Coast Consortia and the ASM –TMC Chapter presents the Monthly Seminar Series on Antibiotic Resistance: \n\n\n\n“From Athens Through Munich to New Delhi and Onward to Texas: Tracing the Inexorable March of an Army of Beta-Lactamase Enzymes on Animal and Human Health\,” with H. Morgan Scott\, DVM\, PhD\, Professor of Epidemiology\, Department of Veterinary Pathobiology\, Texas A&M University \n\n\n\nWhen: Monday\, December 12th\,  12:00 p.m. \n\n\n\nWhere:  https://bit.ly/AMR_Dec12_2022
URL:https://www.gulfcoastconsortia.org/event/monthly-seminar-series-on-antibiotic-resistance-5/
LOCATION:Maryland
CATEGORIES:GCCAMR
ATTACH;FMTTYPE=image/jpeg:https://www.gulfcoastconsortia.org/wp-content/uploads/2022/11/AMR-Seminar-12_12_2022-002.jpg
END:VEVENT
BEGIN:VEVENT
DTSTART;TZID=America/Chicago:20221219T120000
DTEND;TZID=America/Chicago:20221219T130000
DTSTAMP:20260425T134840
CREATED:20221109T021256Z
LAST-MODIFIED:20221109T021357Z
UID:10001018-1671451200-1671454800@www.gulfcoastconsortia.org
SUMMARY:Behavioral Science Research News Hour
DESCRIPTION:Leveraging Causal Tools in Cognitive Neuroscience for Personalized Psychiatry with Dr. Justin Riddle\, PhD\, Postdoctoral Fellow\, Department of Psychiatry\, Scientific Director\, Carolina Center for Neurostimulation\, University of North Carolina\, Chapel Hill \n\n\n\nWhen: Monday\, December 19\, 2022 from 12-1 pm CST \n\n\n\nWhere: via Zoom: https://mdacc.zoom.us/j/83370844734?pwd=d0R6dmlM MzBoM1JXK2hOHpDaGNEQT09Webinar ID: 892 4535 0499Passcode: 218836
URL:https://www.gulfcoastconsortia.org/event/behavioral-science-research-news-hour-3/
LOCATION:Maryland
CATEGORIES:GCCMHR
ATTACH;FMTTYPE=image/jpeg:https://www.gulfcoastconsortia.org/wp-content/uploads/2022/11/Behavioral-Science-Flyer-12.19.22-1.jpg
END:VEVENT
END:VCALENDAR