BEGIN:VCALENDAR
VERSION:2.0
PRODID:-//Gulf Coast Consortia - ECPv6.15.18//NONSGML v1.0//EN
CALSCALE:GREGORIAN
METHOD:PUBLISH
X-ORIGINAL-URL:https://www.gulfcoastconsortia.org
X-WR-CALDESC:Events for Gulf Coast Consortia
REFRESH-INTERVAL;VALUE=DURATION:PT1H
X-Robots-Tag:noindex
X-PUBLISHED-TTL:PT1H
BEGIN:VTIMEZONE
TZID:America/Chicago
BEGIN:DAYLIGHT
TZOFFSETFROM:-0600
TZOFFSETTO:-0500
TZNAME:CDT
DTSTART:20250309T080000
END:DAYLIGHT
BEGIN:STANDARD
TZOFFSETFROM:-0500
TZOFFSETTO:-0600
TZNAME:CST
DTSTART:20251102T070000
END:STANDARD
BEGIN:DAYLIGHT
TZOFFSETFROM:-0600
TZOFFSETTO:-0500
TZNAME:CDT
DTSTART:20260308T080000
END:DAYLIGHT
BEGIN:STANDARD
TZOFFSETFROM:-0500
TZOFFSETTO:-0600
TZNAME:CST
DTSTART:20261101T070000
END:STANDARD
BEGIN:DAYLIGHT
TZOFFSETFROM:-0600
TZOFFSETTO:-0500
TZNAME:CDT
DTSTART:20270314T080000
END:DAYLIGHT
BEGIN:STANDARD
TZOFFSETFROM:-0500
TZOFFSETTO:-0600
TZNAME:CST
DTSTART:20271107T070000
END:STANDARD
END:VTIMEZONE
BEGIN:VEVENT
DTSTART;TZID=America/Chicago:20260407T090000
DTEND;TZID=America/Chicago:20260407T150000
DTSTAMP:20260419T211654
CREATED:20260312T153213Z
LAST-MODIFIED:20260312T153214Z
UID:10001237-1775552400-1775574000@www.gulfcoastconsortia.org
SUMMARY:Cancer Connection: Translating Cancer Discovery to Impact at UTMB
DESCRIPTION:Explore how cancer discoveries move from scientific insight to real-world impact. Cancer Connection brings together the UTMB research community to examine how academic research\, biotechnology startups\, and research funders work together to advance new cancer therapies and improve outcomes for patients. \n\n\n\nEvent Details \n\n\n\nWhat: A symposium focused on connecting cancer discovery\, biotechnology innovation\, and research funding to advance cancer research at UTMBWhen: Tuesday\, April 7\, 2026 | 9:00 AM – 3:00 PM (Check-in begins at 8:30 AM)Where: Levin Hall Dining Room\, 2.217 \n\n\n\nFeatured Speakers: \n\n\n\nMichael Torres – CEO\, Cross Bridge BioUpendra Marathi – CEO\, 7Hills PharmaScott Heibert\, PhD – Chief Scientific Officer\, Cancer Prevention & Research Institute of Texas (CPRIT)Ruth Rechis\, PhD – Executive Director of Outreach and Prevention\, Cancer Prevention & Research Institute of Texas (CPRIT) \n\n\n\nRegister here: Cancer Connection: Research Symposium \n\n\n\nQuestions? Please contact Matt Mendoza at malmendo@utmb.edu.Event Details
URL:https://www.gulfcoastconsortia.org/event/cancer-connection-translating-cancer-discovery-to-impact-at-utmb/
LOCATION:Maryland
CATEGORIES:GCCAG
ATTACH;FMTTYPE=image/png:https://www.gulfcoastconsortia.org/wp-content/uploads/2026/03/UTMB-Cancer-Connection-Flyer.png
END:VEVENT
BEGIN:VEVENT
DTSTART;TZID=America/Chicago:20260407T163000
DTEND;TZID=America/Chicago:20260407T180000
DTSTAMP:20260419T211654
CREATED:20260316T192024Z
LAST-MODIFIED:20260316T192025Z
UID:10001238-1775579400-1775584800@www.gulfcoastconsortia.org
SUMMARY:GCC IDDD REACH and BioHouston BioConnect\, April 7\, 2026
DESCRIPTION:We invite all healthcare technology innovators\, entrepreneurs\, and biotech stakeholders to join us for the April 7 BioConnect networking series. BioConnect promotes collaboration among academic and industry innovators and key stakeholders within our growing biotech ecosystem. Each month\, BioConnect is hosted by one of our exceptional technology development resources and features local biotech companies.  All career levels (e.g.\, students and postdocs) are welcome. \n\n\n\nThis month’s BioConnect will take place on April 7\, 2026\, from 4:30-6:00 pm at Texas Medical Center Innovation\, 2450 Holcombe\, Suite 1\, 77021.
URL:https://www.gulfcoastconsortia.org/event/gcc-iddd-reach-and-biohouston-bioconnect-april-7-2026/
LOCATION:Maryland
CATEGORIES:GCCIDDD
ATTACH;FMTTYPE=image/jpeg:https://www.gulfcoastconsortia.org/wp-content/uploads/2026/03/4-7-26-BioConnect-Flyer-scaled.jpg
END:VEVENT
BEGIN:VEVENT
DTSTART;TZID=America/Chicago:20260505T000000
DTEND;TZID=America/Chicago:20260506T235959
DTSTAMP:20260419T211654
CREATED:20251211T162848Z
LAST-MODIFIED:20251212T222046Z
UID:10001209-1777939200-1778111999@www.gulfcoastconsortia.org
SUMMARY:7th Annual GCC Innovative Drug Discovery and Development Conference
DESCRIPTION:
URL:https://www.gulfcoastconsortia.org/event/7th-annual-gcc-innovative-drug-discovery-and-development-conference/
LOCATION:Maryland
CATEGORIES:GCCIDDD
ATTACH;FMTTYPE=image/jpeg:https://www.gulfcoastconsortia.org/wp-content/uploads/2025/12/IDDD26-flyer-for-marketing-1.jpg
END:VEVENT
BEGIN:VEVENT
DTSTART;TZID=America/Chicago:20261202T080000
DTEND;TZID=America/Chicago:20261203T170000
DTSTAMP:20260419T211654
CREATED:20260417T221219Z
LAST-MODIFIED:20260417T221219Z
UID:10001239-1796198400-1796317200@www.gulfcoastconsortia.org
SUMMARY:NIH 5th Geroscience Summit: Revisiting the Geroscience Hypothesis - Focus on Health
DESCRIPTION:Geroscience is an interdisciplinary field focused on the discovery and translation of methods and interventions targeting pathways involved in the biology of aging to prevent\, minimize\, or reverse chronic diseases and functional decline that frequently occur in older individuals. NIH supports the field of geroscience through research funding\, educational/training opportunities\, and the longstanding NIH Geroscience Interest Group (GSIG). The GSIG includes staff members from several NIH Institutes and Centers and develops scientific and educational events for the community. \n\n\n\nThe Fifth Geroscience Summit: Revisiting the Geroscience Hypothesis – Focus on Health will be held on December 2-3\, 2026\, and will bring together academic and industry researchers with clinicians and other groups invested in geroscience to examine recent progress and identify important knowledge gaps. The summit agenda includes eight sessions during which speakers will provide their high-level perspectives and share ideas for how to move the field forward. \n\n\n\nRegister Here
URL:https://www.gulfcoastconsortia.org/event/nih-5th-geroscience-summit-revisiting-the-geroscience-hypothesis-focus-on-health/
LOCATION:NIH Main Campus\, 9000 Rockville Pike\, Bethesda\, MD 20892\, 9000 Rockville Pike\, Building 35\, Bethesda\, Maryland\, 20892
CATEGORIES:GCCAG
ATTACH;FMTTYPE=image/png:https://www.gulfcoastconsortia.org/wp-content/uploads/2026/04/AGR-NIH.png
END:VEVENT
END:VCALENDAR