BEGIN:VCALENDAR
VERSION:2.0
PRODID:-//Gulf Coast Consortia - ECPv6.15.18//NONSGML v1.0//EN
CALSCALE:GREGORIAN
METHOD:PUBLISH
X-WR-CALNAME:Gulf Coast Consortia
X-ORIGINAL-URL:https://www.gulfcoastconsortia.org
X-WR-CALDESC:Events for Gulf Coast Consortia
REFRESH-INTERVAL;VALUE=DURATION:PT1H
X-Robots-Tag:noindex
X-PUBLISHED-TTL:PT1H
BEGIN:VTIMEZONE
TZID:America/Chicago
BEGIN:DAYLIGHT
TZOFFSETFROM:-0600
TZOFFSETTO:-0500
TZNAME:CDT
DTSTART:20230312T080000
END:DAYLIGHT
BEGIN:STANDARD
TZOFFSETFROM:-0500
TZOFFSETTO:-0600
TZNAME:CST
DTSTART:20231105T070000
END:STANDARD
BEGIN:DAYLIGHT
TZOFFSETFROM:-0600
TZOFFSETTO:-0500
TZNAME:CDT
DTSTART:20240310T080000
END:DAYLIGHT
BEGIN:STANDARD
TZOFFSETFROM:-0500
TZOFFSETTO:-0600
TZNAME:CST
DTSTART:20241103T070000
END:STANDARD
BEGIN:DAYLIGHT
TZOFFSETFROM:-0600
TZOFFSETTO:-0500
TZNAME:CDT
DTSTART:20250309T080000
END:DAYLIGHT
BEGIN:STANDARD
TZOFFSETFROM:-0500
TZOFFSETTO:-0600
TZNAME:CST
DTSTART:20251102T070000
END:STANDARD
END:VTIMEZONE
BEGIN:VEVENT
DTSTART;TZID=America/Chicago:20240611T153000
DTEND;TZID=America/Chicago:20240611T180000
DTSTAMP:20260422T194622
CREATED:20240502T125323Z
LAST-MODIFIED:20240502T125335Z
UID:10001126-1718119800-1718128800@www.gulfcoastconsortia.org
SUMMARY:CMB Flash Talks and Networking Workshop
DESCRIPTION:The Gulf Coast Consortia invites you to a networking event hosted by the GCC Cellular and Molecular Biophysics Consortium. This engaging gathering will commence with brief presentations from our consortium members\, setting the stage for an enriching networking session. The primary aim of this event is to foster a collaborative environment where faculty members and trainees can connect and explore potential collaborative opportunities. \n\n\n\nThe brief presentation will consist of a 3-minute\, 3-slide presentation. You will receive a template to use for the first slide. A PDF file of the presentations will be shared on the GCC website after the event for attendees to reference after the event. \n\n\n\nThe workshop will take place on June 11\, from 3:30-6 pm at the BioScience Research Collaborative\, Event Hall\, 6500 Main. St.
URL:https://www.gulfcoastconsortia.org/event/cmb-flash-talks-and-networking-workshop/
LOCATION:TX
CATEGORIES:GCCCMB
ATTACH;FMTTYPE=image/png:https://www.gulfcoastconsortia.org/wp-content/uploads/2024/05/Flyer-CMB-Flashtalks-Jun-2024.png
END:VEVENT
END:VCALENDAR