BEGIN:VCALENDAR
VERSION:2.0
PRODID:-//Gulf Coast Consortia - ECPv6.15.18//NONSGML v1.0//EN
CALSCALE:GREGORIAN
METHOD:PUBLISH
X-WR-CALNAME:Gulf Coast Consortia
X-ORIGINAL-URL:https://www.gulfcoastconsortia.org
X-WR-CALDESC:Events for Gulf Coast Consortia
REFRESH-INTERVAL;VALUE=DURATION:PT1H
X-Robots-Tag:noindex
X-PUBLISHED-TTL:PT1H
BEGIN:VTIMEZONE
TZID:America/Chicago
BEGIN:DAYLIGHT
TZOFFSETFROM:-0600
TZOFFSETTO:-0500
TZNAME:CDT
DTSTART:20250309T080000
END:DAYLIGHT
BEGIN:STANDARD
TZOFFSETFROM:-0500
TZOFFSETTO:-0600
TZNAME:CST
DTSTART:20251102T070000
END:STANDARD
BEGIN:DAYLIGHT
TZOFFSETFROM:-0600
TZOFFSETTO:-0500
TZNAME:CDT
DTSTART:20260308T080000
END:DAYLIGHT
BEGIN:STANDARD
TZOFFSETFROM:-0500
TZOFFSETTO:-0600
TZNAME:CST
DTSTART:20261101T070000
END:STANDARD
BEGIN:DAYLIGHT
TZOFFSETFROM:-0600
TZOFFSETTO:-0500
TZNAME:CDT
DTSTART:20270314T080000
END:DAYLIGHT
BEGIN:STANDARD
TZOFFSETFROM:-0500
TZOFFSETTO:-0600
TZNAME:CST
DTSTART:20271107T070000
END:STANDARD
END:VTIMEZONE
BEGIN:VEVENT
DTSTART;TZID=America/Chicago:20260220T130000
DTEND;TZID=America/Chicago:20260220T140000
DTSTAMP:20260419T211037
CREATED:20260129T162805Z
LAST-MODIFIED:20260129T162806Z
UID:10001223-1771592400-1771596000@www.gulfcoastconsortia.org
SUMMARY:#Pain2026 Workshop\, Neuro-immune Interactions and Pain\, Feb. 20\, 2026
DESCRIPTION:The GCC Translational Pain Research Consortia invites you to register for the  February 20 #Pain2026 workshop\, focusing on Neuro-immune Interactions and Pain. The event will occur via Zoom webinar from 1-2 p.m. (CT). Registration is free. \n\n\n\n \n\n\n\nXinzhong Dong\, Johns Hopkins University School of Medicine \n\n\n\nJaewon Sim\, Michigan State University
URL:https://www.gulfcoastconsortia.org/event/pain2026-workshop-neuro-immune-interactions-and-pain-feb-20-2026/
LOCATION:Maryland
CATEGORIES:GCCTPR
ATTACH;FMTTYPE=image/jpeg:https://www.gulfcoastconsortia.org/wp-content/uploads/2026/01/Pain-Flyer-02-20-26-scaled.jpg
END:VEVENT
END:VCALENDAR