BEGIN:VCALENDAR
VERSION:2.0
PRODID:-//Gulf Coast Consortia - ECPv6.15.18//NONSGML v1.0//EN
CALSCALE:GREGORIAN
METHOD:PUBLISH
X-ORIGINAL-URL:https://www.gulfcoastconsortia.org
X-WR-CALDESC:Events for Gulf Coast Consortia
REFRESH-INTERVAL;VALUE=DURATION:PT1H
X-Robots-Tag:noindex
X-PUBLISHED-TTL:PT1H
BEGIN:VTIMEZONE
TZID:America/Chicago
BEGIN:DAYLIGHT
TZOFFSETFROM:-0600
TZOFFSETTO:-0500
TZNAME:CDT
DTSTART:20240310T080000
END:DAYLIGHT
BEGIN:STANDARD
TZOFFSETFROM:-0500
TZOFFSETTO:-0600
TZNAME:CST
DTSTART:20241103T070000
END:STANDARD
BEGIN:DAYLIGHT
TZOFFSETFROM:-0600
TZOFFSETTO:-0500
TZNAME:CDT
DTSTART:20250309T080000
END:DAYLIGHT
BEGIN:STANDARD
TZOFFSETFROM:-0500
TZOFFSETTO:-0600
TZNAME:CST
DTSTART:20251102T070000
END:STANDARD
BEGIN:DAYLIGHT
TZOFFSETFROM:-0600
TZOFFSETTO:-0500
TZNAME:CDT
DTSTART:20260308T080000
END:DAYLIGHT
BEGIN:STANDARD
TZOFFSETFROM:-0500
TZOFFSETTO:-0600
TZNAME:CST
DTSTART:20261101T070000
END:STANDARD
END:VTIMEZONE
BEGIN:VEVENT
DTSTART;TZID=America/Chicago:20251113T153000
DTEND;TZID=America/Chicago:20251113T170000
DTSTAMP:20260420T015959
CREATED:20251103T215227Z
LAST-MODIFIED:20251103T215333Z
UID:10001207-1763047800-1763053200@www.gulfcoastconsortia.org
SUMMARY:IDDD Round Table\, Modernizing Drug Discovery: Cell-Based Safety and Translational Engines for a Humane Future
DESCRIPTION:We invite you to register for the November GCC IDDD Round Table Workshop: Modernizing Drug Discovery: Cell-Based Safety and Translational Engines for a Humane Future. This month will feature presentations from Ivan Rusyn and Clifford Stephan. \n\n\n\nThe workshop will take place via Zoom Webinar on Thursday\, November 13\, 2025\, from 3:30 to 5:00 pm CDT. You may submit questions for the presenters in advance during registration\, or in the Q&A box during the workshop.
URL:https://www.gulfcoastconsortia.org/event/iddd-round-table-modernizing-drug-discovery-cell-based-safety-and-translational-engines-for-a-humane-future/
LOCATION:Maryland
CATEGORIES:GCCIDDD
ATTACH;FMTTYPE=image/jpeg:https://www.gulfcoastconsortia.org/wp-content/uploads/2025/11/November-13-2025-Roundtable-Flyer-IDDD.jpg
END:VEVENT
END:VCALENDAR