BEGIN:VCALENDAR
VERSION:2.0
PRODID:-//Gulf Coast Consortia - ECPv6.15.18//NONSGML v1.0//EN
CALSCALE:GREGORIAN
METHOD:PUBLISH
X-WR-CALNAME:Gulf Coast Consortia
X-ORIGINAL-URL:https://www.gulfcoastconsortia.org
X-WR-CALDESC:Events for Gulf Coast Consortia
REFRESH-INTERVAL;VALUE=DURATION:PT1H
X-Robots-Tag:noindex
X-PUBLISHED-TTL:PT1H
BEGIN:VTIMEZONE
TZID:America/Chicago
BEGIN:DAYLIGHT
TZOFFSETFROM:-0600
TZOFFSETTO:-0500
TZNAME:CDT
DTSTART:20240310T080000
END:DAYLIGHT
BEGIN:STANDARD
TZOFFSETFROM:-0500
TZOFFSETTO:-0600
TZNAME:CST
DTSTART:20241103T070000
END:STANDARD
BEGIN:DAYLIGHT
TZOFFSETFROM:-0600
TZOFFSETTO:-0500
TZNAME:CDT
DTSTART:20250309T080000
END:DAYLIGHT
BEGIN:STANDARD
TZOFFSETFROM:-0500
TZOFFSETTO:-0600
TZNAME:CST
DTSTART:20251102T070000
END:STANDARD
BEGIN:DAYLIGHT
TZOFFSETFROM:-0600
TZOFFSETTO:-0500
TZNAME:CDT
DTSTART:20260308T080000
END:DAYLIGHT
BEGIN:STANDARD
TZOFFSETFROM:-0500
TZOFFSETTO:-0600
TZNAME:CST
DTSTART:20261101T070000
END:STANDARD
END:VTIMEZONE
BEGIN:VEVENT
DTSTART;TZID=America/Chicago:20251016T113000
DTEND;TZID=America/Chicago:20251016T140000
DTSTAMP:20260420T034558
CREATED:20250924T161809Z
LAST-MODIFIED:20250924T213410Z
UID:10001198-1760614200-1760623200@www.gulfcoastconsortia.org
SUMMARY:IDR2 Consortium Launch & Dunn Collaborative Research Proposal Speed Dating
DESCRIPTION:Please join us for the GCC’s Integrative Development\, Regeneration\, and Repair (IDR2) Consortium Launch Event. Formerly the Regenerative Medicine Consortium\, IDR2 aims to bring together scientists from GCC institutions working in developmental and stem cell biology\, biomedical engineering\, aging\, inflammation\, and related areas to support their research goals. At this event\, attendees will receive lunch\, listen to rapid-fire talks from potential collaborators\, and network with like-minded researchers\, with the goal of developing inter-institutional collaborations suitable for pursuing a Dunn Research Grant as well as other funding opportunities.
URL:https://www.gulfcoastconsortia.org/event/idr2-consortium-launch-dunn-collaborative-research-proposal-speed-dating/
LOCATION:Bioscience Research Collaborative (BRC) Room 1003\, 6500 Main Street\, Room 1003\, Houston\, Texas\, 77030\, United States
CATEGORIES:GCCRM
ATTACH;FMTTYPE=image/jpeg:https://www.gulfcoastconsortia.org/wp-content/uploads/2025/09/Flyer-IDR2-launch-10-16-25.jpg
END:VEVENT
BEGIN:VEVENT
DTSTART;TZID=America/Chicago:20251016T113000
DTEND;TZID=America/Chicago:20251016T143000
DTSTAMP:20260420T034558
CREATED:20251017T192252Z
LAST-MODIFIED:20251017T192530Z
UID:10001204-1760614200-1760625000@www.gulfcoastconsortia.org
SUMMARY:GCC IDR2 Consortium Launch & Dunn Collaborative Research Proposal Speed Dating\, Oct. 16\, 2025
DESCRIPTION:Please join us for the GCC’s Integrative Development\, Regeneration\, and Repair (IDR2) Consortium Launch Event. Formerly the Regenerative Medicine Consortium\, IDR2 aims to bring together scientists from GCC institutions working in developmental and stem cell biology\, biomedical engineering\, aging\, inflammation\, and related areas to support their research goals. At this event\, attendees will receive lunch\, listen to rapid-fire talks from potential collaborators\, and network with like-minded researchers\, with the goal of developing inter-institutional collaborations suitable for pursuing a Dunn Research Grant as well as other funding opportunities.Bioscience Research Collaborative (BRC)\, Room 1003\, October 16\, 11:30 am to 2:00 pm. Register by Oct. 10.
URL:https://www.gulfcoastconsortia.org/event/gcc-idr2-consortium-launch-dunn-collaborative-research-proposal-speed-dating-oct-16-2025/
LOCATION:Maryland
CATEGORIES:GCCRM
ATTACH;FMTTYPE=image/jpeg:https://www.gulfcoastconsortia.org/wp-content/uploads/2025/10/IDRR-Launch-Flyer-10.16.25.jpg
END:VEVENT
END:VCALENDAR