BEGIN:VCALENDAR
VERSION:2.0
PRODID:-//Gulf Coast Consortia - ECPv6.15.18//NONSGML v1.0//EN
CALSCALE:GREGORIAN
METHOD:PUBLISH
X-WR-CALNAME:Gulf Coast Consortia
X-ORIGINAL-URL:https://www.gulfcoastconsortia.org
X-WR-CALDESC:Events for Gulf Coast Consortia
REFRESH-INTERVAL;VALUE=DURATION:PT1H
X-Robots-Tag:noindex
X-PUBLISHED-TTL:PT1H
BEGIN:VTIMEZONE
TZID:America/Chicago
BEGIN:DAYLIGHT
TZOFFSETFROM:-0600
TZOFFSETTO:-0500
TZNAME:CDT
DTSTART:20240310T080000
END:DAYLIGHT
BEGIN:STANDARD
TZOFFSETFROM:-0500
TZOFFSETTO:-0600
TZNAME:CST
DTSTART:20241103T070000
END:STANDARD
BEGIN:DAYLIGHT
TZOFFSETFROM:-0600
TZOFFSETTO:-0500
TZNAME:CDT
DTSTART:20250309T080000
END:DAYLIGHT
BEGIN:STANDARD
TZOFFSETFROM:-0500
TZOFFSETTO:-0600
TZNAME:CST
DTSTART:20251102T070000
END:STANDARD
BEGIN:DAYLIGHT
TZOFFSETFROM:-0600
TZOFFSETTO:-0500
TZNAME:CDT
DTSTART:20260308T080000
END:DAYLIGHT
BEGIN:STANDARD
TZOFFSETFROM:-0500
TZOFFSETTO:-0600
TZNAME:CST
DTSTART:20261101T070000
END:STANDARD
END:VTIMEZONE
BEGIN:VEVENT
DTSTART;TZID=America/Chicago:20251009T090000
DTEND;TZID=America/Chicago:20251009T170000
DTSTAMP:20260420T032212
CREATED:20250826T164203Z
LAST-MODIFIED:20250904T210924Z
UID:10001184-1760000400-1760029200@www.gulfcoastconsortia.org
SUMMARY:GCC Scholars Multidisciplinary Research Rodeo
DESCRIPTION:Please join us for our cross-consortia\, multidisciplinary research retreat hosted by trainees\, for trainees! The Research Rodeo offers a collaborative environment among your peers across the Gulf Coast Consortia to disseminate your research\, create new collaborations\, and learn more about cutting-edge research in other disciplines. We emphasize this event is among your peers only\, including graduate students\, medical students\, MD-PhD students\, and post-docs!\n\n\n\nThe event will be held on October 9th in the BRC Event Hall from 9am-5pm. Registration is open NOW for $10 and closes October 2\, 2025. We invite you to submit an abstract for our poster session or a 10-minute presentation. Please feel free to use an abstract from a previous meeting. Accepted abstracts will receive a code for FREE registration! Abstract submissions are due by September 15\, 2025\, with notice of acceptance on September 15\, 2025.  \n\n\n\nWe also have a science art competition that will run throughout the retreat! Submit your art within the same abstract portal (you can submit only art if desired!). You can submit any research image not typically used for publications! This may include microscope images\, drawings\, figures\, or anything you can think of– be creative! We will have a fan favorite winner at the end of the retreat. \n\n\n\nSubmit your abstract and/or art here.
URL:https://www.gulfcoastconsortia.org/event/gcc-scholars-multidisciplinary-research-rodeo/
LOCATION:Maryland
CATEGORIES:GCCAG,GCCAMR,GCCCMB,GCCIDDD,GCCIMM,GCCMHR,GCCRM,GCCSCO,GCCTPR
ATTACH;FMTTYPE=image/jpeg:https://www.gulfcoastconsortia.org/wp-content/uploads/2025/08/Trainees_Retreat_Flyer_wo_QR_202508213-scaled.jpg
END:VEVENT
BEGIN:VEVENT
DTSTART;TZID=America/Chicago:20251009T153000
DTEND;TZID=America/Chicago:20251009T170000
DTSTAMP:20260420T032212
CREATED:20250924T115941Z
LAST-MODIFIED:20250924T115943Z
UID:10001197-1760023800-1760029200@www.gulfcoastconsortia.org
SUMMARY:IDDD Round Table\, From Hit to Hero: The Modern Small Molecule Odyssey
DESCRIPTION:We invite you to register for the October GCC IDDD Round Table Workshop: From Hit to Hero: The Modern Small Molecule Odyssey. This month will feature presentations from Adam Gilbert and Nicholas Meanwell. \n\n\n\nThe workshop will occur via Zoom Webinar on Thursday\, October 9\, 2025\, from 3:30-5:00 pm CDT. You may submit questions for the presenters in advance during registration\, or in the Q&A box during the workshop.
URL:https://www.gulfcoastconsortia.org/event/iddd-round-table-from-hit-to-hero-the-modern-small-molecule-odyssey/
LOCATION:Maryland
CATEGORIES:GCCIDDD
ATTACH;FMTTYPE=image/jpeg:https://www.gulfcoastconsortia.org/wp-content/uploads/2025/09/October-9-2025-Roundtable-Flyer-IDDD.jpg
END:VEVENT
END:VCALENDAR