BEGIN:VCALENDAR
VERSION:2.0
PRODID:-//Gulf Coast Consortia - ECPv6.15.18//NONSGML v1.0//EN
CALSCALE:GREGORIAN
METHOD:PUBLISH
X-ORIGINAL-URL:https://www.gulfcoastconsortia.org
X-WR-CALDESC:Events for Gulf Coast Consortia
REFRESH-INTERVAL;VALUE=DURATION:PT1H
X-Robots-Tag:noindex
X-PUBLISHED-TTL:PT1H
BEGIN:VTIMEZONE
TZID:America/Chicago
BEGIN:DAYLIGHT
TZOFFSETFROM:-0600
TZOFFSETTO:-0500
TZNAME:CDT
DTSTART:20240310T080000
END:DAYLIGHT
BEGIN:STANDARD
TZOFFSETFROM:-0500
TZOFFSETTO:-0600
TZNAME:CST
DTSTART:20241103T070000
END:STANDARD
BEGIN:DAYLIGHT
TZOFFSETFROM:-0600
TZOFFSETTO:-0500
TZNAME:CDT
DTSTART:20250309T080000
END:DAYLIGHT
BEGIN:STANDARD
TZOFFSETFROM:-0500
TZOFFSETTO:-0600
TZNAME:CST
DTSTART:20251102T070000
END:STANDARD
BEGIN:DAYLIGHT
TZOFFSETFROM:-0600
TZOFFSETTO:-0500
TZNAME:CDT
DTSTART:20260308T080000
END:DAYLIGHT
BEGIN:STANDARD
TZOFFSETFROM:-0500
TZOFFSETTO:-0600
TZNAME:CST
DTSTART:20261101T070000
END:STANDARD
END:VTIMEZONE
BEGIN:VEVENT
DTSTART;TZID=America/Chicago:20251007T163000
DTEND;TZID=America/Chicago:20251007T180000
DTSTAMP:20260420T033320
CREATED:20250924T113439Z
LAST-MODIFIED:20250924T115520Z
UID:10001196-1759854600-1759860000@www.gulfcoastconsortia.org
SUMMARY:GCC IDDD and BioHouston BioConnect\, Oct. 7\, 2025
DESCRIPTION:We invite all healthcare technology innovators\, entrepreneurs\, and biotech stakeholders to join us for the October 7 BioConnect. BioConnect aims to promote collaboration among academic and industry innovators and key stakeholders within our growing biotech ecosystem. Each month\, this networking event is hosted by one of our exceptional technology development resources and will feature local biotech companies. All career levels (e.g.\, students and postdocs) are welcome. \n\n\n\n This month’s BioConnect will take place on Tuesday\, October 7\, 4:30-6:00 pm\, at K2Bio\, 2710 Reed Road\, Suite 160\, Houston\, TX.  Registration is limited and will close when it reaches capacity or at 11:59 pm on Oct. 2\, whichever occurs first.
URL:https://www.gulfcoastconsortia.org/event/gcc-iddd-and-biohouston-bioconnect-oct-7-2025/
LOCATION:Maryland
CATEGORIES:GCCIDDD
ATTACH;FMTTYPE=image/jpeg:https://www.gulfcoastconsortia.org/wp-content/uploads/2025/09/October-2025-BioConnect-Flyer-scaled.jpg
END:VEVENT
END:VCALENDAR