BEGIN:VCALENDAR
VERSION:2.0
PRODID:-//Gulf Coast Consortia - ECPv6.15.18//NONSGML v1.0//EN
CALSCALE:GREGORIAN
METHOD:PUBLISH
X-WR-CALNAME:Gulf Coast Consortia
X-ORIGINAL-URL:https://www.gulfcoastconsortia.org
X-WR-CALDESC:Events for Gulf Coast Consortia
REFRESH-INTERVAL;VALUE=DURATION:PT1H
X-Robots-Tag:noindex
X-PUBLISHED-TTL:PT1H
BEGIN:VTIMEZONE
TZID:America/Chicago
BEGIN:DAYLIGHT
TZOFFSETFROM:-0600
TZOFFSETTO:-0500
TZNAME:CDT
DTSTART:20240310T080000
END:DAYLIGHT
BEGIN:STANDARD
TZOFFSETFROM:-0500
TZOFFSETTO:-0600
TZNAME:CST
DTSTART:20241103T070000
END:STANDARD
BEGIN:DAYLIGHT
TZOFFSETFROM:-0600
TZOFFSETTO:-0500
TZNAME:CDT
DTSTART:20250309T080000
END:DAYLIGHT
BEGIN:STANDARD
TZOFFSETFROM:-0500
TZOFFSETTO:-0600
TZNAME:CST
DTSTART:20251102T070000
END:STANDARD
BEGIN:DAYLIGHT
TZOFFSETFROM:-0600
TZOFFSETTO:-0500
TZNAME:CDT
DTSTART:20260308T080000
END:DAYLIGHT
BEGIN:STANDARD
TZOFFSETFROM:-0500
TZOFFSETTO:-0600
TZNAME:CST
DTSTART:20261101T070000
END:STANDARD
END:VTIMEZONE
BEGIN:VEVENT
DTSTART;TZID=America/Chicago:20250930T100000
DTEND;TZID=America/Chicago:20250930T140000
DTSTAMP:20260420T032213
CREATED:20250826T170153Z
LAST-MODIFIED:20250922T121347Z
UID:10001186-1759226400-1759240800@www.gulfcoastconsortia.org
SUMMARY:GCC AMR and IDDD Scholars Workshop on Pharmacokinetics and Pharmacodynamics (PK/PD) of Antimicrobials and Novel Agents for Trainees
DESCRIPTION:We are pleased to invite you to register for our upcoming workshop on Pharmacokinetics and Pharmacodynamics (PK/PD) of Antimicrobials and Novel Agents for Trainees on Sept. 30\, 2025\, from 10:00 AM to 2:00 PM at 6500 Main St\, BRC Room 280.  The last day to register is Sept. 24.  \n\n\n\nThe workshop will introduce you to the foundational PK/PD principles with a focus on antimicrobial agents\, dose optimization\, and drug development. \n\n\n\nThis workshop introduces trainees to the fundamental principles of pharmacokinetics and pharmacodynamics (PK/PD)\, with a particular emphasis on antimicrobial agents. Participants will learn how PK/PD modeling informs dose selection\, regimen optimization\, and the translation of preclinical findings into clinical trial design. By highlighting the role of PK/PD as a bridge between laboratory research and clinical drug development\, the workshop will illustrate how these principles guide decision-making across the drug development pipeline—from candidate selection to regulatory approval.
URL:https://www.gulfcoastconsortia.org/event/gcc-amr-and-iddd-scholars-workshop-on-pharmacokinetics-and-pharmacodynamics-pk-pd-of-antimicrobials-and-novel-agents-for-trainees/
LOCATION:BRC Room 280\, 6500 Main St.\, Houston\, Texas\, 77030\, United States
CATEGORIES:GCCAMR,GCCIDDD
ATTACH;FMTTYPE=image/jpeg:https://www.gulfcoastconsortia.org/wp-content/uploads/2025/08/Picture1-2.jpg
END:VEVENT
END:VCALENDAR