BEGIN:VCALENDAR
VERSION:2.0
PRODID:-//Gulf Coast Consortia - ECPv6.15.18//NONSGML v1.0//EN
CALSCALE:GREGORIAN
METHOD:PUBLISH
X-WR-CALNAME:Gulf Coast Consortia
X-ORIGINAL-URL:https://www.gulfcoastconsortia.org
X-WR-CALDESC:Events for Gulf Coast Consortia
REFRESH-INTERVAL;VALUE=DURATION:PT1H
X-Robots-Tag:noindex
X-PUBLISHED-TTL:PT1H
BEGIN:VTIMEZONE
TZID:America/Chicago
BEGIN:DAYLIGHT
TZOFFSETFROM:-0600
TZOFFSETTO:-0500
TZNAME:CDT
DTSTART:20240310T080000
END:DAYLIGHT
BEGIN:STANDARD
TZOFFSETFROM:-0500
TZOFFSETTO:-0600
TZNAME:CST
DTSTART:20241103T070000
END:STANDARD
BEGIN:DAYLIGHT
TZOFFSETFROM:-0600
TZOFFSETTO:-0500
TZNAME:CDT
DTSTART:20250309T080000
END:DAYLIGHT
BEGIN:STANDARD
TZOFFSETFROM:-0500
TZOFFSETTO:-0600
TZNAME:CST
DTSTART:20251102T070000
END:STANDARD
BEGIN:DAYLIGHT
TZOFFSETFROM:-0600
TZOFFSETTO:-0500
TZNAME:CDT
DTSTART:20260308T080000
END:DAYLIGHT
BEGIN:STANDARD
TZOFFSETFROM:-0500
TZOFFSETTO:-0600
TZNAME:CST
DTSTART:20261101T070000
END:STANDARD
END:VTIMEZONE
BEGIN:VEVENT
DTSTART;TZID=America/Chicago:20250929T080000
DTEND;TZID=America/Chicago:20250929T170000
DTSTAMP:20260420T032216
CREATED:20250929T145205Z
LAST-MODIFIED:20250929T145207Z
UID:10001199-1759132800-1759165200@www.gulfcoastconsortia.org
SUMMARY:Northwell Roybal Call for Proposals: Randomized Clinical Trials on Behavioral Interventions in Aging
DESCRIPTION:Click Here to View Full Opportunity Announcement \n\n\n\nThe Roybal Centers for Translational Research in the Behavioral and Social Sciences of Aging aims to translate and integrate behavioral and social research findings into interventions that improve the lives of people as they are aging and increase institutional capacity to adapt to societal aging. The Roybal Program includes 14 Roybal Centers that address a broad range of themes that aim to tackle the complex challenges of aging\, Alzheimer’s Disease and Related Dementias (ADRD)\, social health\, and disparities among aging populations. \n\n\n\nEligible applicants may apply to one participating Roybal Center for the 2026 cycle. Each Center has a unique theme with center-specific application criteria; applicants should refer to the center-specific guidance when applying. Applicants must propose a clinical trial that aligns with the Roybal Centers’ key themes\, applies the NIH Stage Model as a conceptual framework\, and clearly articulate a plan for how the trial will progress through the Model. All clinical trials must have adequate statistical power to test mechanism of behavior change and/or efficacy of the intervention. \n\n\n\nKey Dates: Oct. 15\, 2025: LOI DeadlineNov. 12\, 2025: Invitation for Full ProposalsJan. 5\, 2026: Full Proposal DeadlineFeb. 13\, 2026: Funding Decision
URL:https://www.gulfcoastconsortia.org/event/northwell-roybal-call-for-proposals-randomized-clinical-trials-on-behavioral-interventions-in-aging/
LOCATION:Maryland
CATEGORIES:GCCAG
ATTACH;FMTTYPE=image/png:https://www.gulfcoastconsortia.org/wp-content/uploads/2025/09/Northwell-Roybal.png
END:VEVENT
END:VCALENDAR