BEGIN:VCALENDAR
VERSION:2.0
PRODID:-//Gulf Coast Consortia - ECPv6.15.18//NONSGML v1.0//EN
CALSCALE:GREGORIAN
METHOD:PUBLISH
X-ORIGINAL-URL:https://www.gulfcoastconsortia.org
X-WR-CALDESC:Events for Gulf Coast Consortia
REFRESH-INTERVAL;VALUE=DURATION:PT1H
X-Robots-Tag:noindex
X-PUBLISHED-TTL:PT1H
BEGIN:VTIMEZONE
TZID:America/Chicago
BEGIN:DAYLIGHT
TZOFFSETFROM:-0600
TZOFFSETTO:-0500
TZNAME:CDT
DTSTART:20240310T080000
END:DAYLIGHT
BEGIN:STANDARD
TZOFFSETFROM:-0500
TZOFFSETTO:-0600
TZNAME:CST
DTSTART:20241103T070000
END:STANDARD
BEGIN:DAYLIGHT
TZOFFSETFROM:-0600
TZOFFSETTO:-0500
TZNAME:CDT
DTSTART:20250309T080000
END:DAYLIGHT
BEGIN:STANDARD
TZOFFSETFROM:-0500
TZOFFSETTO:-0600
TZNAME:CST
DTSTART:20251102T070000
END:STANDARD
BEGIN:DAYLIGHT
TZOFFSETFROM:-0600
TZOFFSETTO:-0500
TZNAME:CDT
DTSTART:20260308T080000
END:DAYLIGHT
BEGIN:STANDARD
TZOFFSETFROM:-0500
TZOFFSETTO:-0600
TZNAME:CST
DTSTART:20261101T070000
END:STANDARD
END:VTIMEZONE
BEGIN:VEVENT
DTSTART;TZID=America/Chicago:20250918T090000
DTEND;TZID=America/Chicago:20250918T170000
DTSTAMP:20260420T045409
CREATED:20250530T152141Z
LAST-MODIFIED:20250530T152144Z
UID:10001172-1758186000-1758214800@www.gulfcoastconsortia.org
SUMMARY:7th Annual GCC Mental Health Research Conference
DESCRIPTION:Keynote Presenter Laura L. Colgin\, University of Texas. Additional speakers include the following Sahil Bajaj\, MD Anderson Cancer Center; Alessandro Bonifazi\, Univ. of Texas Medical Branch\, Galveston; Jeremy Borjon\, Univ. of Houston; Benjamin Deneen\, Baylor College of Medicine; Fabricio H. Do Monte\, UTHealth Houston; Wen Li\, UTHealth Houston; Xiangling Meng\, Baylor College of Medicine; Mohammad Milad\, UTHealth Houston; Jim Ray\, MD Anderson Cancer Center; Christina Tringides\, Rice Univ.; Heather Webber\, UTHealth Houston; and Long-Jun Wu\, UTHealth Houston. More information can be found on the conference website.
URL:https://www.gulfcoastconsortia.org/event/7th-annual-gcc-mental-health-research-conference/
LOCATION:Bioscience Research Collaborative (BRC)\, 6500 Main Street\, Auditorium\, Houston\, TX\, 77030\, United States
CATEGORIES:GCCMHR
ATTACH;FMTTYPE=image/jpeg:https://www.gulfcoastconsortia.org/wp-content/uploads/2025/05/Flyer-MH25.jpg
END:VEVENT
END:VCALENDAR