BEGIN:VCALENDAR
VERSION:2.0
PRODID:-//Gulf Coast Consortia - ECPv6.15.18//NONSGML v1.0//EN
CALSCALE:GREGORIAN
METHOD:PUBLISH
X-WR-CALNAME:Gulf Coast Consortia
X-ORIGINAL-URL:https://www.gulfcoastconsortia.org
X-WR-CALDESC:Events for Gulf Coast Consortia
REFRESH-INTERVAL;VALUE=DURATION:PT1H
X-Robots-Tag:noindex
X-PUBLISHED-TTL:PT1H
BEGIN:VTIMEZONE
TZID:America/Chicago
BEGIN:DAYLIGHT
TZOFFSETFROM:-0600
TZOFFSETTO:-0500
TZNAME:CDT
DTSTART:20240310T080000
END:DAYLIGHT
BEGIN:STANDARD
TZOFFSETFROM:-0500
TZOFFSETTO:-0600
TZNAME:CST
DTSTART:20241103T070000
END:STANDARD
BEGIN:DAYLIGHT
TZOFFSETFROM:-0600
TZOFFSETTO:-0500
TZNAME:CDT
DTSTART:20250309T080000
END:DAYLIGHT
BEGIN:STANDARD
TZOFFSETFROM:-0500
TZOFFSETTO:-0600
TZNAME:CST
DTSTART:20251102T070000
END:STANDARD
BEGIN:DAYLIGHT
TZOFFSETFROM:-0600
TZOFFSETTO:-0500
TZNAME:CDT
DTSTART:20260308T080000
END:DAYLIGHT
BEGIN:STANDARD
TZOFFSETFROM:-0500
TZOFFSETTO:-0600
TZNAME:CST
DTSTART:20261101T070000
END:STANDARD
END:VTIMEZONE
BEGIN:VEVENT
DTSTART;TZID=America/Chicago:20250811T080000
DTEND;TZID=America/Chicago:20250815T170000
DTSTAMP:20260420T062243
CREATED:20250714T160847Z
LAST-MODIFIED:20250714T160848Z
UID:10001179-1754899200-1755277200@www.gulfcoastconsortia.org
SUMMARY:GCC IDDD Foundations of Cancer Therapeutics\, Aug. 11-15\, 2025
DESCRIPTION:The GCC Innovative Drug Discovery and Development (IDDD) Consortium would like to invite you to register to audit our 5th Annual Foundations of Cancer Therapeutics Course that will take place from 10 am – 4 pm\, August 11-15.  This year’s 1-week course will focus on therapeutic development from early discovery through clinical trials.  Note that while cancer therapeutics will be highlighted\, the majority of what we will cover is disease-agnostic\, so all with research in drug development are invited to join.  You can view the agenda here. \n\n\n\nConfirmed speakers include Zhiqiang An\, Univ. of Texas Health Science Houston; Sarah Hein\, March Biosciences; Yejin Kim\, Univ. of Texas Health Science Houston; Wenshe Ray Liu\, IBT; Barry Morgan\, HitGen; Kyoji Tsuchikama\, Univ. of Texas Health Science Houston; and Jin Wang\,  Baylor College of Medicine.
URL:https://www.gulfcoastconsortia.org/event/gcc-iddd-foundations-of-cancer-therapeutics-aug-11-15-2025/
LOCATION:Bioscience Research Collaborative (BRC) Room 1003\, 6500 Main Street\, Room 1003\, Houston\, Texas\, 77030\, United States
CATEGORIES:GCCIDDD
ATTACH;FMTTYPE=image/jpeg:https://www.gulfcoastconsortia.org/wp-content/uploads/2025/07/Flyer-FCT-Course-2025-scaled.jpg
END:VEVENT
END:VCALENDAR