BEGIN:VCALENDAR
VERSION:2.0
PRODID:-//Gulf Coast Consortia - ECPv6.15.18//NONSGML v1.0//EN
CALSCALE:GREGORIAN
METHOD:PUBLISH
X-WR-CALNAME:Gulf Coast Consortia
X-ORIGINAL-URL:https://www.gulfcoastconsortia.org
X-WR-CALDESC:Events for Gulf Coast Consortia
REFRESH-INTERVAL;VALUE=DURATION:PT1H
X-Robots-Tag:noindex
X-PUBLISHED-TTL:PT1H
BEGIN:VTIMEZONE
TZID:America/Chicago
BEGIN:DAYLIGHT
TZOFFSETFROM:-0600
TZOFFSETTO:-0500
TZNAME:CDT
DTSTART:20240310T080000
END:DAYLIGHT
BEGIN:STANDARD
TZOFFSETFROM:-0500
TZOFFSETTO:-0600
TZNAME:CST
DTSTART:20241103T070000
END:STANDARD
BEGIN:DAYLIGHT
TZOFFSETFROM:-0600
TZOFFSETTO:-0500
TZNAME:CDT
DTSTART:20250309T080000
END:DAYLIGHT
BEGIN:STANDARD
TZOFFSETFROM:-0500
TZOFFSETTO:-0600
TZNAME:CST
DTSTART:20251102T070000
END:STANDARD
BEGIN:DAYLIGHT
TZOFFSETFROM:-0600
TZOFFSETTO:-0500
TZNAME:CDT
DTSTART:20260308T080000
END:DAYLIGHT
BEGIN:STANDARD
TZOFFSETFROM:-0500
TZOFFSETTO:-0600
TZNAME:CST
DTSTART:20261101T070000
END:STANDARD
END:VTIMEZONE
BEGIN:VEVENT
DTSTART;TZID=America/Chicago:20250708T120000
DTEND;TZID=America/Chicago:20250708T130000
DTSTAMP:20260420T042605
CREATED:20250611T123827Z
LAST-MODIFIED:20250611T124407Z
UID:10001174-1751976000-1751979600@www.gulfcoastconsortia.org
SUMMARY:SCSO Virtual Workshop: Advancing Cancer Treatment and Prevention: Vaccines Targeting Immunogenic Neoantigens Expressed from RNA Fusions and Immune Checkpoint Blockade for Neoadjuvant Therapies
DESCRIPTION:The GCC Single Cell & Spatial Omics Consortia invites you to register for our July 8 workshop on Advancing Cancer Treatment and Prevention: Vaccines Targeting Immunogenic Neoantigens Expressed from RNA Fusions and Immune Checkpoint Blockade for Neoadjuvant Therapies. Presenters are Anjana Bhardwaj\, MD Anderson Cancer Center; Xianli Jiang\, MD Anderson Cancer Center; and  Sakuni Rankothgedera\, MD Anderson Cancer Center. The workshop will take place online via Zoom webinar and is free. Registration is required.
URL:https://www.gulfcoastconsortia.org/event/scso-virtual-workshop-advancing-cancer-treatment-and-prevention-vaccines-targeting-immunogenic-neoantigens-expressed-from-rna-fusions-and-immune-checkpoint-blockade-for-neoadjuvant-therapies/
LOCATION:Maryland
CATEGORIES:GCCSCO
ATTACH;FMTTYPE=image/jpeg:https://www.gulfcoastconsortia.org/wp-content/uploads/2025/06/July-8-2025-SCSO-Workshop-Flyer-scaled.jpg
END:VEVENT
END:VCALENDAR