BEGIN:VCALENDAR
VERSION:2.0
PRODID:-//Gulf Coast Consortia - ECPv6.15.18//NONSGML v1.0//EN
CALSCALE:GREGORIAN
METHOD:PUBLISH
X-ORIGINAL-URL:https://www.gulfcoastconsortia.org
X-WR-CALDESC:Events for Gulf Coast Consortia
REFRESH-INTERVAL;VALUE=DURATION:PT1H
X-Robots-Tag:noindex
X-PUBLISHED-TTL:PT1H
BEGIN:VTIMEZONE
TZID:America/Chicago
BEGIN:DAYLIGHT
TZOFFSETFROM:-0600
TZOFFSETTO:-0500
TZNAME:CDT
DTSTART:20240310T080000
END:DAYLIGHT
BEGIN:STANDARD
TZOFFSETFROM:-0500
TZOFFSETTO:-0600
TZNAME:CST
DTSTART:20241103T070000
END:STANDARD
BEGIN:DAYLIGHT
TZOFFSETFROM:-0600
TZOFFSETTO:-0500
TZNAME:CDT
DTSTART:20250309T080000
END:DAYLIGHT
BEGIN:STANDARD
TZOFFSETFROM:-0500
TZOFFSETTO:-0600
TZNAME:CST
DTSTART:20251102T070000
END:STANDARD
BEGIN:DAYLIGHT
TZOFFSETFROM:-0600
TZOFFSETTO:-0500
TZNAME:CDT
DTSTART:20260308T080000
END:DAYLIGHT
BEGIN:STANDARD
TZOFFSETFROM:-0500
TZOFFSETTO:-0600
TZNAME:CST
DTSTART:20261101T070000
END:STANDARD
END:VTIMEZONE
BEGIN:VEVENT
DTSTART;TZID=America/Chicago:20250521T090000
DTEND;TZID=America/Chicago:20250521T143000
DTSTAMP:20260420T072353
CREATED:20250416T120020Z
LAST-MODIFIED:20250709T124555Z
UID:10001167-1747818000-1747837800@www.gulfcoastconsortia.org
SUMMARY:Rigor and Reproducibility Workshop
DESCRIPTION:1st place winner of the Association of American Medical Colleges 2017 Innovations in Research and Research Education Award\, this exciting workshop brings together highly acclaimed experts in rigor and reproducibility in research topics including data analysis\, experimental design\, resource sharing\, publication\, and reporting\, and more. With speakers and facilitators from all GCC institutions\, this interactive workshop has proven to be very effective as well as a lot of fun. The workshop will take place from 9:15am-2:30pm at the Bioscience Research Collaborative. In person attendance only. The last day to register is May 16
URL:https://www.gulfcoastconsortia.org/event/rigor-and-reproducibility-workshop-5/
LOCATION:Bioscience Research Collaborative (BRC) Room 1003\, 6500 Main Street\, Room 1003\, Houston\, Texas\, 77030\, United States
CATEGORIES:GCCRRR
ATTACH;FMTTYPE=image/png:https://www.gulfcoastconsortia.org/wp-content/uploads/2025/04/Flyer-May-21-2025-Rigor.png
END:VEVENT
END:VCALENDAR