BEGIN:VCALENDAR
VERSION:2.0
PRODID:-//Gulf Coast Consortia - ECPv6.15.18//NONSGML v1.0//EN
CALSCALE:GREGORIAN
METHOD:PUBLISH
X-ORIGINAL-URL:https://www.gulfcoastconsortia.org
X-WR-CALDESC:Events for Gulf Coast Consortia
REFRESH-INTERVAL;VALUE=DURATION:PT1H
X-Robots-Tag:noindex
X-PUBLISHED-TTL:PT1H
BEGIN:VTIMEZONE
TZID:America/Chicago
BEGIN:DAYLIGHT
TZOFFSETFROM:-0600
TZOFFSETTO:-0500
TZNAME:CDT
DTSTART:20240310T080000
END:DAYLIGHT
BEGIN:STANDARD
TZOFFSETFROM:-0500
TZOFFSETTO:-0600
TZNAME:CST
DTSTART:20241103T070000
END:STANDARD
BEGIN:DAYLIGHT
TZOFFSETFROM:-0600
TZOFFSETTO:-0500
TZNAME:CDT
DTSTART:20250309T080000
END:DAYLIGHT
BEGIN:STANDARD
TZOFFSETFROM:-0500
TZOFFSETTO:-0600
TZNAME:CST
DTSTART:20251102T070000
END:STANDARD
BEGIN:DAYLIGHT
TZOFFSETFROM:-0600
TZOFFSETTO:-0500
TZNAME:CDT
DTSTART:20260308T080000
END:DAYLIGHT
BEGIN:STANDARD
TZOFFSETFROM:-0500
TZOFFSETTO:-0600
TZNAME:CST
DTSTART:20261101T070000
END:STANDARD
END:VTIMEZONE
BEGIN:VEVENT
DTSTART;TZID=America/Chicago:20250516T130000
DTEND;TZID=America/Chicago:20250516T140000
DTSTAMP:20260420T072356
CREATED:20250417T163350Z
LAST-MODIFIED:20250513T115623Z
UID:10001169-1747400400-1747404000@www.gulfcoastconsortia.org
SUMMARY:#Pain2025 Workshop: Pain Neuroimaging
DESCRIPTION:We invite you to register for our May 16 #Pain2025 workshop on Pain Neuroimaging. Presenters: Joyce Texeira Da Silva\, Univ. of Maryland School of DentistryKatherine Martucci\, Duke Univ. Mahak Virlley\, Univ. of Texas Southwestern Medical Center The workshop will take place online via Zoom webinar.
URL:https://www.gulfcoastconsortia.org/event/pain2025-workshop-pain-neuroimaging/
LOCATION:Maryland
CATEGORIES:GCCTPR
ATTACH;FMTTYPE=image/jpeg:https://www.gulfcoastconsortia.org/wp-content/uploads/2025/04/Pain-Flyer-5-16-25-1-scaled.jpg
END:VEVENT
END:VCALENDAR