BEGIN:VCALENDAR
VERSION:2.0
PRODID:-//Gulf Coast Consortia - ECPv6.15.18//NONSGML v1.0//EN
CALSCALE:GREGORIAN
METHOD:PUBLISH
X-WR-CALNAME:Gulf Coast Consortia
X-ORIGINAL-URL:https://www.gulfcoastconsortia.org
X-WR-CALDESC:Events for Gulf Coast Consortia
REFRESH-INTERVAL;VALUE=DURATION:PT1H
X-Robots-Tag:noindex
X-PUBLISHED-TTL:PT1H
BEGIN:VTIMEZONE
TZID:America/Chicago
BEGIN:DAYLIGHT
TZOFFSETFROM:-0600
TZOFFSETTO:-0500
TZNAME:CDT
DTSTART:20240310T080000
END:DAYLIGHT
BEGIN:STANDARD
TZOFFSETFROM:-0500
TZOFFSETTO:-0600
TZNAME:CST
DTSTART:20241103T070000
END:STANDARD
BEGIN:DAYLIGHT
TZOFFSETFROM:-0600
TZOFFSETTO:-0500
TZNAME:CDT
DTSTART:20250309T080000
END:DAYLIGHT
BEGIN:STANDARD
TZOFFSETFROM:-0500
TZOFFSETTO:-0600
TZNAME:CST
DTSTART:20251102T070000
END:STANDARD
BEGIN:DAYLIGHT
TZOFFSETFROM:-0600
TZOFFSETTO:-0500
TZNAME:CDT
DTSTART:20260308T080000
END:DAYLIGHT
BEGIN:STANDARD
TZOFFSETFROM:-0500
TZOFFSETTO:-0600
TZNAME:CST
DTSTART:20261101T070000
END:STANDARD
END:VTIMEZONE
BEGIN:VEVENT
DTSTART;TZID=America/Chicago:20250304T160000
DTEND;TZID=America/Chicago:20250304T180000
DTSTAMP:20260420T095636
CREATED:20250219T141143Z
LAST-MODIFIED:20250220T110706Z
UID:10001163-1741104000-1741111200@www.gulfcoastconsortia.org
SUMMARY:GCC IDDD and BioHouston BioConnect\, March 4\, 2025
DESCRIPTION:This event is open to all healthcare technology innovators\, entrepreneurs\, and biotech stakeholders. BioConnect promotes collaboration among academic and industry innovators and key stakeholders within our growing biotech ecosystem. Each month\, BioConnectis hosted by one of our exceptional technology development resources and features local biotech companies. All career levels (e.g.\, students and postdocs) are welcome. This month’s BioConnect will be at the TMC3 Collaborative Research Building\, Levy Conference Room\, 7255 Helix Park Ave.
URL:https://www.gulfcoastconsortia.org/event/gcc-iddd-and-biohouston-bioconnect-march-4-2025/
LOCATION:Maryland
CATEGORIES:GCCIDDD
ATTACH;FMTTYPE=image/jpeg:https://www.gulfcoastconsortia.org/wp-content/uploads/2025/02/3-4-25-BioConnect-Flyer-scaled.jpg
END:VEVENT
END:VCALENDAR