BEGIN:VCALENDAR
VERSION:2.0
PRODID:-//Gulf Coast Consortia - ECPv6.15.18//NONSGML v1.0//EN
CALSCALE:GREGORIAN
METHOD:PUBLISH
X-WR-CALNAME:Gulf Coast Consortia
X-ORIGINAL-URL:https://www.gulfcoastconsortia.org
X-WR-CALDESC:Events for Gulf Coast Consortia
REFRESH-INTERVAL;VALUE=DURATION:PT1H
X-Robots-Tag:noindex
X-PUBLISHED-TTL:PT1H
BEGIN:VTIMEZONE
TZID:America/Chicago
BEGIN:DAYLIGHT
TZOFFSETFROM:-0600
TZOFFSETTO:-0500
TZNAME:CDT
DTSTART:20240310T080000
END:DAYLIGHT
BEGIN:STANDARD
TZOFFSETFROM:-0500
TZOFFSETTO:-0600
TZNAME:CST
DTSTART:20241103T070000
END:STANDARD
BEGIN:DAYLIGHT
TZOFFSETFROM:-0600
TZOFFSETTO:-0500
TZNAME:CDT
DTSTART:20250309T080000
END:DAYLIGHT
BEGIN:STANDARD
TZOFFSETFROM:-0500
TZOFFSETTO:-0600
TZNAME:CST
DTSTART:20251102T070000
END:STANDARD
BEGIN:DAYLIGHT
TZOFFSETFROM:-0600
TZOFFSETTO:-0500
TZNAME:CDT
DTSTART:20260308T080000
END:DAYLIGHT
BEGIN:STANDARD
TZOFFSETFROM:-0500
TZOFFSETTO:-0600
TZNAME:CST
DTSTART:20261101T070000
END:STANDARD
END:VTIMEZONE
BEGIN:VEVENT
DTSTART;TZID=America/Chicago:20250115T080000
DTEND;TZID=America/Chicago:20250117T160000
DTSTAMP:20260420T125131
CREATED:20240923T200113Z
LAST-MODIFIED:20240923T200116Z
UID:10001138-1736928000-1737129600@www.gulfcoastconsortia.org
SUMMARY:8th Annual TMC Antimicrobial Resistance Research and Stewardship Conference
DESCRIPTION:Confirmed keynote presenters: David Andes\, Univ. of Wisconsin; Susan Huang\, Univ. of California\, Irvine; Joseph Kuti\, Hartford Hospital; Preeti Malani\, Univ. of Michigan; and Suzanne Walker\, Harvard Univ. Other confirmed presenters include: Tomefa Asempa\, Center for Anti-Infective Research and Development Hartford CT;  Ritu Banerjee\, Vanderbilt Univ.; Mariette Barbier\, West Virginia Univ.; Taylor Blackburn\, Emory Univ.; Jovan Borjan\, MD Anderson Cancer Center; Christina Boucher\, Univ. of Florida; Travis Carlson\, Univ. of Texas\, San Antonio; James Chappell\, Rice Univ.; Nathalie Chen\, Univ. of Pittsburgh; Shane Cristy\, Univ. of Texas Health Science Center Houston; Herbert DuPont\, Univ. of Texas Health Science Center Houston; Taryn Eubank\, Univ. of Houston; Vance Fowler\, Duke Univ.; Kevin Garey\, Univ. of Houston; Danielle Garsin\, Univ. of Texas Health Science Center Houston; Kimberly Hanson\, Univ. of Utah and ARUP Laboratories;  Mina Henes\, Emory Univ.; Jessica Howard-Anderson\, Emory Univ.; Melissa DePaoli Johnson\, Duke Univ.; Andre Kalil\, Univ. of Nebraska Medical Center; Alex Kang\, Houston Methodist Research Institute; Sanjat Kanjilal\, Harvard Medical School; Natalie Mackow\, Univ. of North Carolina\, Chapel Hill; Flor Munoz\, Baylor College of Medicine; Masayuki Nigo\, Houston Methodist & Weill Cornell Medical College; Nathan Raabe\, Univ. of Pittsburgh; Krishna Rao\, Univ. of Michigan\, Ann Arbor; David Roach\, Harvard Univ.; Michael Statlin\, Weill Cornell Medical College; Pranita Tamma\, Johns Hopkins Univ.; Henok Tegene\, Baylor College of Medicine/Texas Children’s Hospital; Victor Torres\, St. Jude Children’s Research Hospital; Michael Woodworth\, Emory Univ.; Yan Xiong\, The Lindquist Institute. More information can be found on the conference website.
URL:https://www.gulfcoastconsortia.org/event/8th-annual-tmc-antimicrobial-resistance-research-and-stewardship-conference/
LOCATION:BioScience Research Collaborative Auditorium\, 6500 Main St\, Houston\, Texas\, 77030\, United States
CATEGORIES:GCCAMR
ATTACH;FMTTYPE=image/jpeg:https://www.gulfcoastconsortia.org/wp-content/uploads/2024/09/Flyer-AMR25-scaled.jpg
END:VEVENT
END:VCALENDAR