BEGIN:VCALENDAR
VERSION:2.0
PRODID:-//Gulf Coast Consortia - ECPv6.15.18//NONSGML v1.0//EN
CALSCALE:GREGORIAN
METHOD:PUBLISH
X-WR-CALNAME:Gulf Coast Consortia
X-ORIGINAL-URL:https://www.gulfcoastconsortia.org
X-WR-CALDESC:Events for Gulf Coast Consortia
REFRESH-INTERVAL;VALUE=DURATION:PT1H
X-Robots-Tag:noindex
X-PUBLISHED-TTL:PT1H
BEGIN:VTIMEZONE
TZID:America/Chicago
BEGIN:DAYLIGHT
TZOFFSETFROM:-0600
TZOFFSETTO:-0500
TZNAME:CDT
DTSTART:20230312T080000
END:DAYLIGHT
BEGIN:STANDARD
TZOFFSETFROM:-0500
TZOFFSETTO:-0600
TZNAME:CST
DTSTART:20231105T070000
END:STANDARD
BEGIN:DAYLIGHT
TZOFFSETFROM:-0600
TZOFFSETTO:-0500
TZNAME:CDT
DTSTART:20240310T080000
END:DAYLIGHT
BEGIN:STANDARD
TZOFFSETFROM:-0500
TZOFFSETTO:-0600
TZNAME:CST
DTSTART:20241103T070000
END:STANDARD
BEGIN:DAYLIGHT
TZOFFSETFROM:-0600
TZOFFSETTO:-0500
TZNAME:CDT
DTSTART:20250309T080000
END:DAYLIGHT
BEGIN:STANDARD
TZOFFSETFROM:-0500
TZOFFSETTO:-0600
TZNAME:CST
DTSTART:20251102T070000
END:STANDARD
END:VTIMEZONE
BEGIN:VEVENT
DTSTART;TZID=America/Chicago:20241002T091500
DTEND;TZID=America/Chicago:20241002T150000
DTSTAMP:20260420T173426
CREATED:20240822T120801Z
LAST-MODIFIED:20240822T121021Z
UID:10001133-1727860500-1727881200@www.gulfcoastconsortia.org
SUMMARY:Rigor and Reproducibility Workshop\, Oct. 2\, 2024
DESCRIPTION:This exciting workshop is the 1st place winner of the Association of American Medical Colleges 2017 Innovations in Research and Research Education Award and brings together highly acclaimed experts in rigor and reproducibility in research topics\, such as data analysis\, experimental design\, resource sharing\, publication\, reporting\, and more.  With speakers and facilitators from GCC institutions\, this interactive workshop has proven effective and fun. 
URL:https://www.gulfcoastconsortia.org/event/rigor-and-reproducibility-workshop-oct-2-2024/
LOCATION:Bioscience Research Collaborative (BRC) Room 1003\, 6500 Main Street\, Room 1003\, Houston\, Texas\, 77030\, United States
CATEGORIES:GCCRRR
ATTACH;FMTTYPE=image/jpeg:https://www.gulfcoastconsortia.org/wp-content/uploads/2024/08/Flyer-Oct-2-2024-Rigor-1-scaled.jpg
END:VEVENT
END:VCALENDAR