BEGIN:VCALENDAR
VERSION:2.0
PRODID:-//Gulf Coast Consortia - ECPv6.15.18//NONSGML v1.0//EN
CALSCALE:GREGORIAN
METHOD:PUBLISH
X-WR-CALNAME:Gulf Coast Consortia
X-ORIGINAL-URL:https://www.gulfcoastconsortia.org
X-WR-CALDESC:Events for Gulf Coast Consortia
REFRESH-INTERVAL;VALUE=DURATION:PT1H
X-Robots-Tag:noindex
X-PUBLISHED-TTL:PT1H
BEGIN:VTIMEZONE
TZID:America/Chicago
BEGIN:DAYLIGHT
TZOFFSETFROM:-0600
TZOFFSETTO:-0500
TZNAME:CDT
DTSTART:20230312T080000
END:DAYLIGHT
BEGIN:STANDARD
TZOFFSETFROM:-0500
TZOFFSETTO:-0600
TZNAME:CST
DTSTART:20231105T070000
END:STANDARD
BEGIN:DAYLIGHT
TZOFFSETFROM:-0600
TZOFFSETTO:-0500
TZNAME:CDT
DTSTART:20240310T080000
END:DAYLIGHT
BEGIN:STANDARD
TZOFFSETFROM:-0500
TZOFFSETTO:-0600
TZNAME:CST
DTSTART:20241103T070000
END:STANDARD
BEGIN:DAYLIGHT
TZOFFSETFROM:-0600
TZOFFSETTO:-0500
TZNAME:CDT
DTSTART:20250309T080000
END:DAYLIGHT
BEGIN:STANDARD
TZOFFSETFROM:-0500
TZOFFSETTO:-0600
TZNAME:CST
DTSTART:20251102T070000
END:STANDARD
END:VTIMEZONE
BEGIN:VEVENT
DTSTART;TZID=America/Chicago:20240920T130000
DTEND;TZID=America/Chicago:20240920T140000
DTSTAMP:20260420T190315
CREATED:20240828T114906Z
LAST-MODIFIED:20240829T192726Z
UID:10001134-1726837200-1726840800@www.gulfcoastconsortia.org
SUMMARY:#Pain Workshop: Transcriptomic Analysis and Pain
DESCRIPTION:Moderator:Diana Tavares-Ferreira\, University of Texas\, Dallas \n\n\n\nPresenters:Daniela Menichella\, Northwestern UniversitySingle-cell Transcriptomics Uncovered Langerhans Cells as the Pivotal Epidermal Immune Cells Driving Painful Diabetic Neuropathy \n\n\n\nArkady Khoutorsky\, McGill UniversityTranslational Control in the Spinal Cord Regulates Gene Expression and Pain Hypersensitivity in the Chronic Phase of Neuropathic Pain \n\n\n\nFiona Boissonade \, University of SheffieldThe Cellular and Molecular Landscape of Human Neuromas Linked With Neuropathic Pain
URL:https://www.gulfcoastconsortia.org/event/pain-workshop-transcriptomic-analysis-and-pain/
LOCATION:Maryland
CATEGORIES:GCCTPR
ATTACH;FMTTYPE=image/jpeg:https://www.gulfcoastconsortia.org/wp-content/uploads/2024/08/Pain-Flyer-9-20-24-1-scaled.jpg
END:VEVENT
END:VCALENDAR