BEGIN:VCALENDAR
VERSION:2.0
PRODID:-//Gulf Coast Consortia - ECPv6.15.18//NONSGML v1.0//EN
CALSCALE:GREGORIAN
METHOD:PUBLISH
X-WR-CALNAME:Gulf Coast Consortia
X-ORIGINAL-URL:https://www.gulfcoastconsortia.org
X-WR-CALDESC:Events for Gulf Coast Consortia
REFRESH-INTERVAL;VALUE=DURATION:PT1H
X-Robots-Tag:noindex
X-PUBLISHED-TTL:PT1H
BEGIN:VTIMEZONE
TZID:America/Chicago
BEGIN:DAYLIGHT
TZOFFSETFROM:-0600
TZOFFSETTO:-0500
TZNAME:CDT
DTSTART:20230312T080000
END:DAYLIGHT
BEGIN:STANDARD
TZOFFSETFROM:-0500
TZOFFSETTO:-0600
TZNAME:CST
DTSTART:20231105T070000
END:STANDARD
BEGIN:DAYLIGHT
TZOFFSETFROM:-0600
TZOFFSETTO:-0500
TZNAME:CDT
DTSTART:20240310T080000
END:DAYLIGHT
BEGIN:STANDARD
TZOFFSETFROM:-0500
TZOFFSETTO:-0600
TZNAME:CST
DTSTART:20241103T070000
END:STANDARD
BEGIN:DAYLIGHT
TZOFFSETFROM:-0600
TZOFFSETTO:-0500
TZNAME:CDT
DTSTART:20250309T080000
END:DAYLIGHT
BEGIN:STANDARD
TZOFFSETFROM:-0500
TZOFFSETTO:-0600
TZNAME:CST
DTSTART:20251102T070000
END:STANDARD
END:VTIMEZONE
BEGIN:VEVENT
DTSTART;TZID=America/Chicago:20240912T153000
DTEND;TZID=America/Chicago:20240912T170000
DTSTAMP:20260420T190315
CREATED:20240911T102917Z
LAST-MODIFIED:20240911T102919Z
UID:10001137-1726155000-1726160400@www.gulfcoastconsortia.org
SUMMARY:IDDD Round Table: ACT 101: Accelerating Cancer Therapeutics
DESCRIPTION:Presented by the GCC Innovative Drug Discovery and Development Consortia\, the GCC Cancer Therapeutics Training Program (CTTP)\, and the GCC Innovative Drug Discovery and Development Scholars Program\, we invite you to register for the September GCC IDDD Round Table Workshop: ACT 101: Accelerating Cancer Therapeutics. \n\n\n\n Presenters: Cassian Yee\, Mongoose Bio; Robert Kruse\, HydroGene Therapeutics\, Inc.; Parsa Modareszadeh\, Velorum Therapeutics; and Pouya Modareszadeh\, Velorum Therapeutics.
URL:https://www.gulfcoastconsortia.org/event/iddd-round-table-act-101-accelerating-cancer-therapeutics/
LOCATION:Maryland
CATEGORIES:GCCIDDD
ATTACH;FMTTYPE=image/jpeg:https://www.gulfcoastconsortia.org/wp-content/uploads/2024/09/Sept-12-2024-Roundtable-Flyer-IDDD.jpg
END:VEVENT
END:VCALENDAR