BEGIN:VCALENDAR
VERSION:2.0
PRODID:-//Gulf Coast Consortia - ECPv6.15.18//NONSGML v1.0//EN
CALSCALE:GREGORIAN
METHOD:PUBLISH
X-ORIGINAL-URL:https://www.gulfcoastconsortia.org
X-WR-CALDESC:Events for Gulf Coast Consortia
REFRESH-INTERVAL;VALUE=DURATION:PT1H
X-Robots-Tag:noindex
X-PUBLISHED-TTL:PT1H
BEGIN:VTIMEZONE
TZID:America/Chicago
BEGIN:DAYLIGHT
TZOFFSETFROM:-0600
TZOFFSETTO:-0500
TZNAME:CDT
DTSTART:20230312T080000
END:DAYLIGHT
BEGIN:STANDARD
TZOFFSETFROM:-0500
TZOFFSETTO:-0600
TZNAME:CST
DTSTART:20231105T070000
END:STANDARD
BEGIN:DAYLIGHT
TZOFFSETFROM:-0600
TZOFFSETTO:-0500
TZNAME:CDT
DTSTART:20240310T080000
END:DAYLIGHT
BEGIN:STANDARD
TZOFFSETFROM:-0500
TZOFFSETTO:-0600
TZNAME:CST
DTSTART:20241103T070000
END:STANDARD
BEGIN:DAYLIGHT
TZOFFSETFROM:-0600
TZOFFSETTO:-0500
TZNAME:CDT
DTSTART:20250309T080000
END:DAYLIGHT
BEGIN:STANDARD
TZOFFSETFROM:-0500
TZOFFSETTO:-0600
TZNAME:CST
DTSTART:20251102T070000
END:STANDARD
END:VTIMEZONE
BEGIN:VEVENT
DTSTART;TZID=America/Chicago:20240514T091500
DTEND;TZID=America/Chicago:20240514T150000
DTSTAMP:20260424T133353
CREATED:20240502T124744Z
LAST-MODIFIED:20250709T124718Z
UID:10001125-1715678100-1715698800@www.gulfcoastconsortia.org
SUMMARY:Rigor and Reproducibility Workshop
DESCRIPTION:We invite you to register for the Rigor and Reproducibility Workshop on May 14\, 2024. This exciting workshop is the 1st place winner of the Association of American Medical Colleges 2017 Innovations in Research and Research Education Award and brings together highly acclaimed experts in rigor and reproducibility in research topics\, such as data analysis\, experimental design\, resource sharing\, publication\, reporting\, and more.  With speakers and facilitators from GCC institutions\, this interactive workshop has proven to be very effective as well as a lot of fun. The workshop will be held at the Bioscience Research Collaborative\, 6500 Main Street\, Room 1003\, Houston\, TX\, from 9:15 am – 3:00 pm.
URL:https://www.gulfcoastconsortia.org/event/rigor-and-reproducibility-workshop-8/
LOCATION:Maryland
CATEGORIES:GCCRRR
ATTACH;FMTTYPE=image/png:https://www.gulfcoastconsortia.org/wp-content/uploads/2024/05/Flyer-May-14-2024-Rigor.png
END:VEVENT
END:VCALENDAR