BEGIN:VCALENDAR
VERSION:2.0
PRODID:-//Gulf Coast Consortia - ECPv6.15.18//NONSGML v1.0//EN
CALSCALE:GREGORIAN
METHOD:PUBLISH
X-WR-CALNAME:Gulf Coast Consortia
X-ORIGINAL-URL:https://www.gulfcoastconsortia.org
X-WR-CALDESC:Events for Gulf Coast Consortia
REFRESH-INTERVAL;VALUE=DURATION:PT1H
X-Robots-Tag:noindex
X-PUBLISHED-TTL:PT1H
BEGIN:VTIMEZONE
TZID:America/Chicago
BEGIN:DAYLIGHT
TZOFFSETFROM:-0600
TZOFFSETTO:-0500
TZNAME:CDT
DTSTART:20230312T080000
END:DAYLIGHT
BEGIN:STANDARD
TZOFFSETFROM:-0500
TZOFFSETTO:-0600
TZNAME:CST
DTSTART:20231105T070000
END:STANDARD
BEGIN:DAYLIGHT
TZOFFSETFROM:-0600
TZOFFSETTO:-0500
TZNAME:CDT
DTSTART:20240310T080000
END:DAYLIGHT
BEGIN:STANDARD
TZOFFSETFROM:-0500
TZOFFSETTO:-0600
TZNAME:CST
DTSTART:20241103T070000
END:STANDARD
BEGIN:DAYLIGHT
TZOFFSETFROM:-0600
TZOFFSETTO:-0500
TZNAME:CDT
DTSTART:20250309T080000
END:DAYLIGHT
BEGIN:STANDARD
TZOFFSETFROM:-0500
TZOFFSETTO:-0600
TZNAME:CST
DTSTART:20251102T070000
END:STANDARD
END:VTIMEZONE
BEGIN:VEVENT
DTSTART;TZID=America/Chicago:20240504T020000
DTEND;TZID=America/Chicago:20240504T023000
DTSTAMP:20260424T132919
CREATED:20240427T200021Z
LAST-MODIFIED:20240427T200718Z
UID:10001122-1714788000-1714789800@www.gulfcoastconsortia.org
SUMMARY:Mind Matters: Prioritizing Emotional Well-Being and Self-Care
DESCRIPTION:Mind Matters: Prioritizing Emotional Well-Being and Self-Care \n\n\n\nSpeaker: Dr. Nicole Willis\, PhD\, LMSW \n\n\n\nDate: Saturday\, May 4\, 2024Time: 1:00-2:30 PMWhere: Good Hope Missionary Baptist Church\, 3015 N. MacGregor Way\, Houston\, TX 77004Online: Zoom
URL:https://www.gulfcoastconsortia.org/event/mind-matters-prioritizing-emotional-well-being-and-self-care/
LOCATION:Maryland
CATEGORIES:GCCDDCEH
ATTACH;FMTTYPE=image/png:https://www.gulfcoastconsortia.org/wp-content/uploads/2024/04/CBMHR-Mind-Matters-05.04.24.png
END:VEVENT
END:VCALENDAR