BEGIN:VCALENDAR
VERSION:2.0
PRODID:-//Gulf Coast Consortia - ECPv6.15.18//NONSGML v1.0//EN
CALSCALE:GREGORIAN
METHOD:PUBLISH
X-WR-CALNAME:Gulf Coast Consortia
X-ORIGINAL-URL:https://www.gulfcoastconsortia.org
X-WR-CALDESC:Events for Gulf Coast Consortia
REFRESH-INTERVAL;VALUE=DURATION:PT1H
X-Robots-Tag:noindex
X-PUBLISHED-TTL:PT1H
BEGIN:VTIMEZONE
TZID:America/Chicago
BEGIN:DAYLIGHT
TZOFFSETFROM:-0600
TZOFFSETTO:-0500
TZNAME:CDT
DTSTART:20230312T080000
END:DAYLIGHT
BEGIN:STANDARD
TZOFFSETFROM:-0500
TZOFFSETTO:-0600
TZNAME:CST
DTSTART:20231105T070000
END:STANDARD
BEGIN:DAYLIGHT
TZOFFSETFROM:-0600
TZOFFSETTO:-0500
TZNAME:CDT
DTSTART:20240310T080000
END:DAYLIGHT
BEGIN:STANDARD
TZOFFSETFROM:-0500
TZOFFSETTO:-0600
TZNAME:CST
DTSTART:20241103T070000
END:STANDARD
BEGIN:DAYLIGHT
TZOFFSETFROM:-0600
TZOFFSETTO:-0500
TZNAME:CDT
DTSTART:20250309T080000
END:DAYLIGHT
BEGIN:STANDARD
TZOFFSETFROM:-0500
TZOFFSETTO:-0600
TZNAME:CST
DTSTART:20251102T070000
END:STANDARD
END:VTIMEZONE
BEGIN:VEVENT
DTSTART;TZID=America/Chicago:20240426T160000
DTEND;TZID=America/Chicago:20240426T180000
DTSTAMP:20260424T150345
CREATED:20240320T154448Z
LAST-MODIFIED:20240321T120204Z
UID:10001117-1714147200-1714154400@www.gulfcoastconsortia.org
SUMMARY:Junior Faculty Extravaganza
DESCRIPTION:Open to all Assistant Professors and Jr. Faculty: Do not miss this opportunity to learn about research and training programs\, seed grants\, equipment/cores\, and other resources that are available across GCC institutions.  It is also an excellent opportunity to meet new colleagues and potential collaborators. A drawing will take place for several door prizes including an iPad and gift cards. 
URL:https://www.gulfcoastconsortia.org/event/junior-faculty-extravaganza/
LOCATION:Bioscience Research Collaborative\, 6500 Main Street\, Auditorium\, Houston\, TX\, 77030\, United States
CATEGORIES:GCCJFR
ATTACH;FMTTYPE=image/jpeg:https://www.gulfcoastconsortia.org/wp-content/uploads/2024/03/April-2024-Jr-Fac-Extravaganza.jpg
END:VEVENT
END:VCALENDAR