BEGIN:VCALENDAR
VERSION:2.0
PRODID:-//Gulf Coast Consortia - ECPv6.15.18//NONSGML v1.0//EN
CALSCALE:GREGORIAN
METHOD:PUBLISH
X-ORIGINAL-URL:https://www.gulfcoastconsortia.org
X-WR-CALDESC:Events for Gulf Coast Consortia
REFRESH-INTERVAL;VALUE=DURATION:PT1H
X-Robots-Tag:noindex
X-PUBLISHED-TTL:PT1H
BEGIN:VTIMEZONE
TZID:America/Chicago
BEGIN:DAYLIGHT
TZOFFSETFROM:-0600
TZOFFSETTO:-0500
TZNAME:CDT
DTSTART:20230312T080000
END:DAYLIGHT
BEGIN:STANDARD
TZOFFSETFROM:-0500
TZOFFSETTO:-0600
TZNAME:CST
DTSTART:20231105T070000
END:STANDARD
BEGIN:DAYLIGHT
TZOFFSETFROM:-0600
TZOFFSETTO:-0500
TZNAME:CDT
DTSTART:20240310T080000
END:DAYLIGHT
BEGIN:STANDARD
TZOFFSETFROM:-0500
TZOFFSETTO:-0600
TZNAME:CST
DTSTART:20241103T070000
END:STANDARD
BEGIN:DAYLIGHT
TZOFFSETFROM:-0600
TZOFFSETTO:-0500
TZNAME:CDT
DTSTART:20250309T080000
END:DAYLIGHT
BEGIN:STANDARD
TZOFFSETFROM:-0500
TZOFFSETTO:-0600
TZNAME:CST
DTSTART:20251102T070000
END:STANDARD
END:VTIMEZONE
BEGIN:VEVENT
DTSTART;TZID=America/Chicago:20240415T080000
DTEND;TZID=America/Chicago:20240419T170000
DTSTAMP:20260424T150608
CREATED:20240123T195927Z
LAST-MODIFIED:20240123T210009Z
UID:10001106-1713168000-1713546000@www.gulfcoastconsortia.org
SUMMARY:Achieving Data Quality and Integrity in Maximum Containment Laboratories - Nonclinical Course
DESCRIPTION:FDA-UTMB Collaborative Education Program \n\n\n\n\n\nCourse Format: In-person (at UTMB) or Virtual \n\n\n\nCourse Description: The four and one-half day training program is offered annually utilizing expert faculty from the U.S. Food and Drug Administration\, other government agencies\, academia\, and business and industry. In-person attendees participate in laboratory activities conducted in mock Biosafety Level (BSL) 2\, 3\, and 4 training laboratories to emphasize the differences between biosafety levels and the complexity of conducting laboratory activities in a BSL4 laboratory environment. \n\n\n\nPrerequisite Knowledge: A basic understanding of the FDA Good Laboratory Practice regulations (21 CFR Part 58) is highly recommended. To meet this need\, access to two free online courses will be provided to course attendees. Both courses are submitted for continuing education for quality assurance professionals. The GLP Basic Training course is required for UTMB graduate students seeking academic credit. \n\n\n\nView Course Flyer Here \n\n\n\nClick Here for Graduate Credit Information \n\n\n\nClick Here to Register!
URL:https://www.gulfcoastconsortia.org/event/achieving-data-quality-and-integrity-in-maximum-containment-laboratories-nonclinical-course/
LOCATION:Maryland
CATEGORIES:GCCIDDD
ATTACH;FMTTYPE=image/png:https://www.gulfcoastconsortia.org/wp-content/uploads/2024/01/UTMB-Course.png
END:VEVENT
END:VCALENDAR