BEGIN:VCALENDAR
VERSION:2.0
PRODID:-//Gulf Coast Consortia - ECPv6.15.18//NONSGML v1.0//EN
CALSCALE:GREGORIAN
METHOD:PUBLISH
X-WR-CALNAME:Gulf Coast Consortia
X-ORIGINAL-URL:https://www.gulfcoastconsortia.org
X-WR-CALDESC:Events for Gulf Coast Consortia
REFRESH-INTERVAL;VALUE=DURATION:PT1H
X-Robots-Tag:noindex
X-PUBLISHED-TTL:PT1H
BEGIN:VTIMEZONE
TZID:America/Chicago
BEGIN:DAYLIGHT
TZOFFSETFROM:-0600
TZOFFSETTO:-0500
TZNAME:CDT
DTSTART:20230312T080000
END:DAYLIGHT
BEGIN:STANDARD
TZOFFSETFROM:-0500
TZOFFSETTO:-0600
TZNAME:CST
DTSTART:20231105T070000
END:STANDARD
BEGIN:DAYLIGHT
TZOFFSETFROM:-0600
TZOFFSETTO:-0500
TZNAME:CDT
DTSTART:20240310T080000
END:DAYLIGHT
BEGIN:STANDARD
TZOFFSETFROM:-0500
TZOFFSETTO:-0600
TZNAME:CST
DTSTART:20241103T070000
END:STANDARD
BEGIN:DAYLIGHT
TZOFFSETFROM:-0600
TZOFFSETTO:-0500
TZNAME:CDT
DTSTART:20250309T080000
END:DAYLIGHT
BEGIN:STANDARD
TZOFFSETFROM:-0500
TZOFFSETTO:-0600
TZNAME:CST
DTSTART:20251102T070000
END:STANDARD
END:VTIMEZONE
BEGIN:VEVENT
DTSTART;TZID=America/Chicago:20240409T000000
DTEND;TZID=America/Chicago:20240410T235959
DTSTAMP:20260424T150305
CREATED:20240112T215658Z
LAST-MODIFIED:20240306T180952Z
UID:10001103-1712620800-1712793599@www.gulfcoastconsortia.org
SUMMARY:4th Annual GCC Immunology Conference
DESCRIPTION:Confirmed Keynote presenters: Megan Levings\, Univ. of British Columbia; and Novalia Pishesha\, Boston Children’s Hospital. See the conference website for more information.
URL:https://www.gulfcoastconsortia.org/event/4th-annual-gcc-immunology-conference/
LOCATION:Maryland
CATEGORIES:GCCIMM
ATTACH;FMTTYPE=image/png:https://www.gulfcoastconsortia.org/wp-content/uploads/2024/01/Flyer-IMM24.png
END:VEVENT
BEGIN:VEVENT
DTSTART;TZID=America/Chicago:20240409T000000
DTEND;TZID=America/Chicago:20240411T235959
DTSTAMP:20260424T150305
CREATED:20240406T214226Z
LAST-MODIFIED:20240406T214228Z
UID:10001120-1712620800-1712879999@www.gulfcoastconsortia.org
SUMMARY:Black Maternal Health Week 2024
DESCRIPTION:LEARN about reproductive health\, mental health\, maternal health challenges\, and healthy lifestyle importance.  Can strategies to ADVOCATE for your and your loved ones in the healthcare system.  Feel EMPOWERED to take control of decisions about your health and the health of your loved ones. \n\n\n\nEvents:April 9th: 11:45 AM – 1:00 PM at the Sterling Student Life Center\, 3rd FloorApril 10th: 10:00 AM – 1:00 PM\, Tiger WalkApril 11th\, 5:30 PM – 7:00 PM at the Sterling Student Life Center\, Cafeteria
URL:https://www.gulfcoastconsortia.org/event/black-maternal-health-week-2024/
LOCATION:Maryland
CATEGORIES:GCCDDCEH
ATTACH;FMTTYPE=image/png:https://www.gulfcoastconsortia.org/wp-content/uploads/2024/04/Black-Maternal-Health-Week-2024-Logo.png
END:VEVENT
END:VCALENDAR