BEGIN:VCALENDAR
VERSION:2.0
PRODID:-//Gulf Coast Consortia - ECPv6.15.18//NONSGML v1.0//EN
CALSCALE:GREGORIAN
METHOD:PUBLISH
X-WR-CALNAME:Gulf Coast Consortia
X-ORIGINAL-URL:https://www.gulfcoastconsortia.org
X-WR-CALDESC:Events for Gulf Coast Consortia
REFRESH-INTERVAL;VALUE=DURATION:PT1H
X-Robots-Tag:noindex
X-PUBLISHED-TTL:PT1H
BEGIN:VTIMEZONE
TZID:America/Chicago
BEGIN:DAYLIGHT
TZOFFSETFROM:-0600
TZOFFSETTO:-0500
TZNAME:CDT
DTSTART:20230312T080000
END:DAYLIGHT
BEGIN:STANDARD
TZOFFSETFROM:-0500
TZOFFSETTO:-0600
TZNAME:CST
DTSTART:20231105T070000
END:STANDARD
BEGIN:DAYLIGHT
TZOFFSETFROM:-0600
TZOFFSETTO:-0500
TZNAME:CDT
DTSTART:20240310T080000
END:DAYLIGHT
BEGIN:STANDARD
TZOFFSETFROM:-0500
TZOFFSETTO:-0600
TZNAME:CST
DTSTART:20241103T070000
END:STANDARD
BEGIN:DAYLIGHT
TZOFFSETFROM:-0600
TZOFFSETTO:-0500
TZNAME:CDT
DTSTART:20250309T080000
END:DAYLIGHT
BEGIN:STANDARD
TZOFFSETFROM:-0500
TZOFFSETTO:-0600
TZNAME:CST
DTSTART:20251102T070000
END:STANDARD
END:VTIMEZONE
BEGIN:VEVENT
DTSTART;TZID=America/Chicago:20240126T080000
DTEND;TZID=America/Chicago:20240126T170000
DTSTAMP:20260424T194931
CREATED:20231117T123935Z
LAST-MODIFIED:20231117T123936Z
UID:10001089-1706256000-1706288400@www.gulfcoastconsortia.org
SUMMARY:Save the Date: Maternal & Child Health
DESCRIPTION:
URL:https://www.gulfcoastconsortia.org/event/save-the-date-maternal-child-health/
LOCATION:Maryland
CATEGORIES:GCCDDCEH
ATTACH;FMTTYPE=image/jpeg:https://www.gulfcoastconsortia.org/wp-content/uploads/2023/11/Maternal-Child-Health-01.26.24.jpg
END:VEVENT
BEGIN:VEVENT
DTSTART;TZID=America/Chicago:20240126T160000
DTEND;TZID=America/Chicago:20240126T170000
DTSTAMP:20260424T194931
CREATED:20240110T173346Z
LAST-MODIFIED:20240110T173403Z
UID:10000873-1706284800-1706288400@www.gulfcoastconsortia.org
SUMMARY:Keck Seminar
DESCRIPTION:Career Panel\, Academia \n\n\n\nCarly Filgueira\, PhD (HMRI)\, Kendra Carmon\, PhD (UTH)\, Risa Myers\, PhD (Rice).
URL:https://www.gulfcoastconsortia.org/event/keck-seminar-3/
LOCATION:BRC Room 280\, 6500 Main St.\, Houston\, Texas\, 77030\, United States
END:VEVENT
END:VCALENDAR