BEGIN:VCALENDAR
VERSION:2.0
PRODID:-//Gulf Coast Consortia - ECPv6.15.18//NONSGML v1.0//EN
CALSCALE:GREGORIAN
METHOD:PUBLISH
X-WR-CALNAME:Gulf Coast Consortia
X-ORIGINAL-URL:https://www.gulfcoastconsortia.org
X-WR-CALDESC:Events for Gulf Coast Consortia
REFRESH-INTERVAL;VALUE=DURATION:PT1H
X-Robots-Tag:noindex
X-PUBLISHED-TTL:PT1H
BEGIN:VTIMEZONE
TZID:America/Chicago
BEGIN:DAYLIGHT
TZOFFSETFROM:-0600
TZOFFSETTO:-0500
TZNAME:CDT
DTSTART:20230312T080000
END:DAYLIGHT
BEGIN:STANDARD
TZOFFSETFROM:-0500
TZOFFSETTO:-0600
TZNAME:CST
DTSTART:20231105T070000
END:STANDARD
BEGIN:DAYLIGHT
TZOFFSETFROM:-0600
TZOFFSETTO:-0500
TZNAME:CDT
DTSTART:20240310T080000
END:DAYLIGHT
BEGIN:STANDARD
TZOFFSETFROM:-0500
TZOFFSETTO:-0600
TZNAME:CST
DTSTART:20241103T070000
END:STANDARD
BEGIN:DAYLIGHT
TZOFFSETFROM:-0600
TZOFFSETTO:-0500
TZNAME:CDT
DTSTART:20250309T080000
END:DAYLIGHT
BEGIN:STANDARD
TZOFFSETFROM:-0500
TZOFFSETTO:-0600
TZNAME:CST
DTSTART:20251102T070000
END:STANDARD
END:VTIMEZONE
BEGIN:VEVENT
DTSTART;TZID=America/Chicago:20240116T000000
DTEND;TZID=America/Chicago:20240116T120000
DTSTAMP:20260424T195605
CREATED:20231221T162018Z
LAST-MODIFIED:20231221T162459Z
UID:10001097-1705363200-1705406400@www.gulfcoastconsortia.org
SUMMARY:GCC Antimicrobial Resistance and Stewardship Workshop on Bacterial Genomics\, Jan. 16\, 2024
DESCRIPTION:This year\, we are excited to offer a pre-meeting workshop for trainees on Bacterial Genomics on Jan. 16\, 2024.  The workshop will feature:Todd Treangen\, Rice University\, will present Strain-level Characterization of Metagenomic Sequencing Data. \n\n\n\nJennifer Spinler\, Baylor College of Medicine\, will present Methods for Pathogen Epidemiology Using Whole Genome Sequencing.You can register here!
URL:https://www.gulfcoastconsortia.org/event/gcc-antimicrobial-resistance-and-stewardship-workshop-on-bacterial-genomics-jan-16-2024/
LOCATION:Maryland
CATEGORIES:GCCAMR
ATTACH;FMTTYPE=image/jpeg:https://www.gulfcoastconsortia.org/wp-content/uploads/2023/12/AMR-2024-Conference-Logo-scaled.jpg
END:VEVENT
END:VCALENDAR