BEGIN:VCALENDAR
VERSION:2.0
PRODID:-//Gulf Coast Consortia - ECPv6.15.18//NONSGML v1.0//EN
CALSCALE:GREGORIAN
METHOD:PUBLISH
X-WR-CALNAME:Gulf Coast Consortia
X-ORIGINAL-URL:https://www.gulfcoastconsortia.org
X-WR-CALDESC:Events for Gulf Coast Consortia
REFRESH-INTERVAL;VALUE=DURATION:PT1H
X-Robots-Tag:noindex
X-PUBLISHED-TTL:PT1H
BEGIN:VTIMEZONE
TZID:America/Chicago
BEGIN:DAYLIGHT
TZOFFSETFROM:-0600
TZOFFSETTO:-0500
TZNAME:CDT
DTSTART:20220313T080000
END:DAYLIGHT
BEGIN:STANDARD
TZOFFSETFROM:-0500
TZOFFSETTO:-0600
TZNAME:CST
DTSTART:20221106T070000
END:STANDARD
BEGIN:DAYLIGHT
TZOFFSETFROM:-0600
TZOFFSETTO:-0500
TZNAME:CDT
DTSTART:20230312T080000
END:DAYLIGHT
BEGIN:STANDARD
TZOFFSETFROM:-0500
TZOFFSETTO:-0600
TZNAME:CST
DTSTART:20231105T070000
END:STANDARD
BEGIN:DAYLIGHT
TZOFFSETFROM:-0600
TZOFFSETTO:-0500
TZNAME:CDT
DTSTART:20240310T080000
END:DAYLIGHT
BEGIN:STANDARD
TZOFFSETFROM:-0500
TZOFFSETTO:-0600
TZNAME:CST
DTSTART:20241103T070000
END:STANDARD
END:VTIMEZONE
BEGIN:VEVENT
DTSTART;TZID=America/Chicago:20231202T080000
DTEND;TZID=America/Chicago:20231202T170000
DTSTAMP:20260424T211244
CREATED:20231110T132608Z
LAST-MODIFIED:20231117T125450Z
UID:10001087-1701504000-1701536400@www.gulfcoastconsortia.org
SUMMARY:Childhood Cancer: What the Community Needs to Know
DESCRIPTION:Guest Speaker: Dr. Rayne Rouce \n\n\n\nDate: Dec. 12\, 2023Time: 10 AM – 12 PMWhere: Fallbrook Church\, 12512 Walters Rd.\, Houston\, TX 77014             or Virtual via Zoom \n\n\n\nRegister Here
URL:https://www.gulfcoastconsortia.org/event/childhood-cancer-what-the-community-needs-to-know/
LOCATION:Maryland
CATEGORIES:GCCDDCEH
ATTACH;FMTTYPE=image/jpeg:https://www.gulfcoastconsortia.org/wp-content/uploads/2023/11/Comm-Engaged-Childhood-Cancer.jpg
END:VEVENT
END:VCALENDAR