BEGIN:VCALENDAR
VERSION:2.0
PRODID:-//Gulf Coast Consortia - ECPv6.15.18//NONSGML v1.0//EN
CALSCALE:GREGORIAN
METHOD:PUBLISH
X-ORIGINAL-URL:https://www.gulfcoastconsortia.org
X-WR-CALDESC:Events for Gulf Coast Consortia
REFRESH-INTERVAL;VALUE=DURATION:PT1H
X-Robots-Tag:noindex
X-PUBLISHED-TTL:PT1H
BEGIN:VTIMEZONE
TZID:America/Chicago
BEGIN:DAYLIGHT
TZOFFSETFROM:-0600
TZOFFSETTO:-0500
TZNAME:CDT
DTSTART:20220313T080000
END:DAYLIGHT
BEGIN:STANDARD
TZOFFSETFROM:-0500
TZOFFSETTO:-0600
TZNAME:CST
DTSTART:20221106T070000
END:STANDARD
BEGIN:DAYLIGHT
TZOFFSETFROM:-0600
TZOFFSETTO:-0500
TZNAME:CDT
DTSTART:20230312T080000
END:DAYLIGHT
BEGIN:STANDARD
TZOFFSETFROM:-0500
TZOFFSETTO:-0600
TZNAME:CST
DTSTART:20231105T070000
END:STANDARD
BEGIN:DAYLIGHT
TZOFFSETFROM:-0600
TZOFFSETTO:-0500
TZNAME:CDT
DTSTART:20240310T080000
END:DAYLIGHT
BEGIN:STANDARD
TZOFFSETFROM:-0500
TZOFFSETTO:-0600
TZNAME:CST
DTSTART:20241103T070000
END:STANDARD
END:VTIMEZONE
BEGIN:VEVENT
DTSTART;TZID=America/Chicago:20231109T153000
DTEND;TZID=America/Chicago:20231109T170000
DTSTAMP:20260424T224607
CREATED:20231027T204434Z
LAST-MODIFIED:20231027T204544Z
UID:10001085-1699543800-1699549200@www.gulfcoastconsortia.org
SUMMARY:IDDD Round Table: Automated Imaging and Analysis in Cancer Cell Biology\, Nov. 9\, 2023
DESCRIPTION:Presented by the GCC Innovative Drug Discovery and Development Consortia and the GCC Center for Advanced Microscopy and Image Informatics\, we invite you to register for the GCC IDDD Round Table Workshop: Automated Imaging and Analysis in Cancer Cell Biology.  \n\n\n\nThis workshop will feature presenters Liling Wan\, Univ. of Pennsylvania\, and Fabio Stossi\, Baylor College of Medicine. The workshop will occur on Thursday\, Nov. 9\, 2023\, from 3:30-5:00 pm CST. 
URL:https://www.gulfcoastconsortia.org/event/iddd-round-table-automated-imaging-and-analysis-in-cancer-cell-biology-nov-9-2023/
LOCATION:Maryland
CATEGORIES:GCCIDDD
ATTACH;FMTTYPE=image/jpeg:https://www.gulfcoastconsortia.org/wp-content/uploads/2023/10/Nov-9-2023-Roundtable-Flyer-IDDD-scaled.jpg
END:VEVENT
END:VCALENDAR