BEGIN:VCALENDAR
VERSION:2.0
PRODID:-//Gulf Coast Consortia - ECPv6.15.18//NONSGML v1.0//EN
CALSCALE:GREGORIAN
METHOD:PUBLISH
X-ORIGINAL-URL:https://www.gulfcoastconsortia.org
X-WR-CALDESC:Events for Gulf Coast Consortia
REFRESH-INTERVAL;VALUE=DURATION:PT1H
X-Robots-Tag:noindex
X-PUBLISHED-TTL:PT1H
BEGIN:VTIMEZONE
TZID:America/Chicago
BEGIN:DAYLIGHT
TZOFFSETFROM:-0600
TZOFFSETTO:-0500
TZNAME:CDT
DTSTART:20220313T080000
END:DAYLIGHT
BEGIN:STANDARD
TZOFFSETFROM:-0500
TZOFFSETTO:-0600
TZNAME:CST
DTSTART:20221106T070000
END:STANDARD
BEGIN:DAYLIGHT
TZOFFSETFROM:-0600
TZOFFSETTO:-0500
TZNAME:CDT
DTSTART:20230312T080000
END:DAYLIGHT
BEGIN:STANDARD
TZOFFSETFROM:-0500
TZOFFSETTO:-0600
TZNAME:CST
DTSTART:20231105T070000
END:STANDARD
BEGIN:DAYLIGHT
TZOFFSETFROM:-0600
TZOFFSETTO:-0500
TZNAME:CDT
DTSTART:20240310T080000
END:DAYLIGHT
BEGIN:STANDARD
TZOFFSETFROM:-0500
TZOFFSETTO:-0600
TZNAME:CST
DTSTART:20241103T070000
END:STANDARD
END:VTIMEZONE
BEGIN:VEVENT
DTSTART;TZID=America/Chicago:20230617T100000
DTEND;TZID=America/Chicago:20230617T120000
DTSTAMP:20260425T063226
CREATED:20230606T205641Z
LAST-MODIFIED:20230606T211438Z
UID:10001052-1686996000-1687003200@www.gulfcoastconsortia.org
SUMMARY:Center for Biomedical & Minority Health Research Community Engagement Core Presents "Know Your Kidneys Like ABC's"
DESCRIPTION:Hello TSU CEC Partner\, \n\n\n\nJune is almost here and we want to invite you to our June 2023 seminar on Chronic Kidney Disease happening Saturday\, June 17th with Dr. Biruh Workeneh. We will be providing no cost blood pressure and blood glucose testing\, door prizes and an expert panel session. We hope to see you there! \n\n\n\nWhen: Saturday\, June 17\, 2023 \n\n\n\nWhere: \n\n\n\nIn-Person: Ethiopian Christian Fellowship Church\, 401 Present St\, Missouri City\, TX 77489 \n\n\n\nZoom Webinar: https://linktr.ee/cectxsouthernu \n\n\n\nView Flyer Here
URL:https://www.gulfcoastconsortia.org/event/center-for-biomedical-minority-health-research-community-engagement-core/
LOCATION:Maryland
CATEGORIES:GCCDDCEH
ATTACH;FMTTYPE=image/png:https://www.gulfcoastconsortia.org/wp-content/uploads/2023/06/TSU-CBMHR.png
END:VEVENT
END:VCALENDAR