BEGIN:VCALENDAR
VERSION:2.0
PRODID:-//Gulf Coast Consortia - ECPv6.15.18//NONSGML v1.0//EN
CALSCALE:GREGORIAN
METHOD:PUBLISH
X-WR-CALNAME:Gulf Coast Consortia
X-ORIGINAL-URL:https://www.gulfcoastconsortia.org
X-WR-CALDESC:Events for Gulf Coast Consortia
REFRESH-INTERVAL;VALUE=DURATION:PT1H
X-Robots-Tag:noindex
X-PUBLISHED-TTL:PT1H
BEGIN:VTIMEZONE
TZID:America/Chicago
BEGIN:DAYLIGHT
TZOFFSETFROM:-0600
TZOFFSETTO:-0500
TZNAME:CDT
DTSTART:20220313T080000
END:DAYLIGHT
BEGIN:STANDARD
TZOFFSETFROM:-0500
TZOFFSETTO:-0600
TZNAME:CST
DTSTART:20221106T070000
END:STANDARD
BEGIN:DAYLIGHT
TZOFFSETFROM:-0600
TZOFFSETTO:-0500
TZNAME:CDT
DTSTART:20230312T080000
END:DAYLIGHT
BEGIN:STANDARD
TZOFFSETFROM:-0500
TZOFFSETTO:-0600
TZNAME:CST
DTSTART:20231105T070000
END:STANDARD
BEGIN:DAYLIGHT
TZOFFSETFROM:-0600
TZOFFSETTO:-0500
TZNAME:CDT
DTSTART:20240310T080000
END:DAYLIGHT
BEGIN:STANDARD
TZOFFSETFROM:-0500
TZOFFSETTO:-0600
TZNAME:CST
DTSTART:20241103T070000
END:STANDARD
END:VTIMEZONE
BEGIN:VEVENT
DTSTART;TZID=America/Chicago:20230518T080000
DTEND;TZID=America/Chicago:20230521T170000
DTSTAMP:20260425T075443
CREATED:20221205T232125Z
LAST-MODIFIED:20221205T232129Z
UID:10000779-1684396800-1684688400@www.gulfcoastconsortia.org
SUMMARY:2023 ASPET Guppy Tank Translational Science Pitch Competition
DESCRIPTION:The “Guppy Tank” competition will showcase translational science pitches from four young scientists who will be coached by mentors with established experience in the biotech\, pharma\, and entrepreneurship realms. In addition\, the Guppy Tank event will feature a keynote discussion by Dr. Trivia Frazier (President and CEO of Obatala Sciences) who will highlight the importance of a translational vision to scientific innovations and effective strategies for a successful science pitch. This session will be an exciting and essential educational opportunity for young scientists to hone their translational scientific communication skills while getting publicly recognized for their talents.
URL:https://www.gulfcoastconsortia.org/event/2023-aspet-guppy-tank-translational-science-pitch-competition/
LOCATION:St. Louis Union Station Hotel\, 1820 Market St.\, St. Louis\, Missouri\, 63103\, United States
CATEGORIES:GCCIDDD
ATTACH;FMTTYPE=image/jpeg:https://www.gulfcoastconsortia.org/wp-content/uploads/2022/12/ASPET-2023-jpg.jpg
END:VEVENT
BEGIN:VEVENT
DTSTART;TZID=America/Chicago:20230518T140000
DTEND;TZID=America/Chicago:20230518T150000
DTSTAMP:20260425T075443
CREATED:20230427T210548Z
LAST-MODIFIED:20230427T210549Z
UID:10000825-1684418400-1684422000@www.gulfcoastconsortia.org
SUMMARY:GCC Single Cell Omics Panel: Single-Cell Proteomics: Challenges and Opportunities
DESCRIPTION:We invite you to register (registration closes May 17) for the GCC Single Cell Omics Panel: Single-Cell Proteomics: Challenges and Opportunities. Sponsored by the GCC Single Cell Omics Consortia\, the workshop will occur online May 18 from 2-3 pm\, cdt. The panel discussion will be followed by Q&A. You can submit a question for the presenters before the workshop during registration.  \n\n\n\nPanel Presenters: \n\n\n\nJulea Vlassakis\, PhD\, Assistant Professor\, Bioengineering\, Rice Univ. \n\n\n\nKen Chen\, PhD\, Professor\, Bioinformatics and Computational Biology\, Division of Basic Science Research\, Univ. of Texas MD Anderson Cancer Center \n\n\n\nSheng Pan\, PhD\, Associate Professor\, Center for Translational Cancer Research\, Univ. of Texas Health McGovern Medical School
URL:https://www.gulfcoastconsortia.org/event/gcc-single-cell-omics-panel-single-cell-proteomics-challenges-and-opportunities/
LOCATION:Maryland
CATEGORIES:GCCSCO
ATTACH;FMTTYPE=image/jpeg:https://www.gulfcoastconsortia.org/wp-content/uploads/2023/04/May-18-23-SCO-Workshop-Flyer7-scaled.jpg
END:VEVENT
END:VCALENDAR