BEGIN:VCALENDAR
VERSION:2.0
PRODID:-//Gulf Coast Consortia - ECPv6.15.18//NONSGML v1.0//EN
CALSCALE:GREGORIAN
METHOD:PUBLISH
X-ORIGINAL-URL:https://www.gulfcoastconsortia.org
X-WR-CALDESC:Events for Gulf Coast Consortia
REFRESH-INTERVAL;VALUE=DURATION:PT1H
X-Robots-Tag:noindex
X-PUBLISHED-TTL:PT1H
BEGIN:VTIMEZONE
TZID:America/Chicago
BEGIN:DAYLIGHT
TZOFFSETFROM:-0600
TZOFFSETTO:-0500
TZNAME:CDT
DTSTART:20220313T080000
END:DAYLIGHT
BEGIN:STANDARD
TZOFFSETFROM:-0500
TZOFFSETTO:-0600
TZNAME:CST
DTSTART:20221106T070000
END:STANDARD
BEGIN:DAYLIGHT
TZOFFSETFROM:-0600
TZOFFSETTO:-0500
TZNAME:CDT
DTSTART:20230312T080000
END:DAYLIGHT
BEGIN:STANDARD
TZOFFSETFROM:-0500
TZOFFSETTO:-0600
TZNAME:CST
DTSTART:20231105T070000
END:STANDARD
BEGIN:DAYLIGHT
TZOFFSETFROM:-0600
TZOFFSETTO:-0500
TZNAME:CDT
DTSTART:20240310T080000
END:DAYLIGHT
BEGIN:STANDARD
TZOFFSETFROM:-0500
TZOFFSETTO:-0600
TZNAME:CST
DTSTART:20241103T070000
END:STANDARD
END:VTIMEZONE
BEGIN:VEVENT
DTSTART;TZID=America/Chicago:20230517T091500
DTEND;TZID=America/Chicago:20230517T151500
DTSTAMP:20260425T092610
CREATED:20230322T172720Z
LAST-MODIFIED:20230322T172721Z
UID:10000802-1684314900-1684336500@www.gulfcoastconsortia.org
SUMMARY:Rigor and Reproducibility Workshop
DESCRIPTION:1st place winner of the Association of American Medical Colleges 2017 Innovations in Research and Research Education Award\, this exciting workshop brings together highly acclaimed experts in rigor and reproducibility in research topics including data analysis\, experimental design\, resource sharing\, publication and reporting\, and more.  With speakers and facilitators from all of our GCC institutions\, this interactive workshop has proven to be very effective as well as a lot of fun. The workshop will take place from 9:00 am – 3 pm Bioscience Research Collaborative\, 6500 Main Street\, Room 1003. In person attendance only.
URL:https://www.gulfcoastconsortia.org/event/rigor-and-reproducibility-workshop-7/
LOCATION:Maryland
CATEGORIES:GCCRRR
ATTACH;FMTTYPE=image/jpeg:https://www.gulfcoastconsortia.org/wp-content/uploads/2023/03/Flyer-May-17-2023-Rigor-scaled.jpg
END:VEVENT
BEGIN:VEVENT
DTSTART;TZID=America/Chicago:20230517T160000
DTEND;TZID=America/Chicago:20230517T170000
DTSTAMP:20260425T092610
CREATED:20230324T143057Z
LAST-MODIFIED:20230331T143852Z
UID:10000818-1684339200-1684342800@www.gulfcoastconsortia.org
SUMMARY:Texas Single Cell Seminars
DESCRIPTION:Texas Single Cell Seminar – Spring 2023 ScheduleWednesdays 4-5 PMMeeting ID: 828 6718 3777Password: TXSC \n\n\n\nVIEW SCHEDULE HERE
URL:https://www.gulfcoastconsortia.org/event/texas-single-cell-seminars/2023-05-17/
LOCATION:Maryland
CATEGORIES:GCCSCO
ATTACH;FMTTYPE=image/png:https://www.gulfcoastconsortia.org/wp-content/uploads/2023/03/TX-Single-Cell-Schedule-.png
END:VEVENT
END:VCALENDAR