BEGIN:VCALENDAR
VERSION:2.0
PRODID:-//Gulf Coast Consortia - ECPv6.15.18//NONSGML v1.0//EN
CALSCALE:GREGORIAN
METHOD:PUBLISH
X-WR-CALNAME:Gulf Coast Consortia
X-ORIGINAL-URL:https://www.gulfcoastconsortia.org
X-WR-CALDESC:Events for Gulf Coast Consortia
REFRESH-INTERVAL;VALUE=DURATION:PT1H
X-Robots-Tag:noindex
X-PUBLISHED-TTL:PT1H
BEGIN:VTIMEZONE
TZID:America/Chicago
BEGIN:DAYLIGHT
TZOFFSETFROM:-0600
TZOFFSETTO:-0500
TZNAME:CDT
DTSTART:20220313T080000
END:DAYLIGHT
BEGIN:STANDARD
TZOFFSETFROM:-0500
TZOFFSETTO:-0600
TZNAME:CST
DTSTART:20221106T070000
END:STANDARD
BEGIN:DAYLIGHT
TZOFFSETFROM:-0600
TZOFFSETTO:-0500
TZNAME:CDT
DTSTART:20230312T080000
END:DAYLIGHT
BEGIN:STANDARD
TZOFFSETFROM:-0500
TZOFFSETTO:-0600
TZNAME:CST
DTSTART:20231105T070000
END:STANDARD
BEGIN:DAYLIGHT
TZOFFSETFROM:-0600
TZOFFSETTO:-0500
TZNAME:CDT
DTSTART:20240310T080000
END:DAYLIGHT
BEGIN:STANDARD
TZOFFSETFROM:-0500
TZOFFSETTO:-0600
TZNAME:CST
DTSTART:20241103T070000
END:STANDARD
END:VTIMEZONE
BEGIN:VEVENT
DTSTART;TZID=America/Chicago:20230316T000000
DTEND;TZID=America/Chicago:20230316T010000
DTSTAMP:20260425T105254
CREATED:20230308T142450Z
LAST-MODIFIED:20230308T142451Z
UID:10000800-1678924800-1678928400@www.gulfcoastconsortia.org
SUMMARY:"Unlocking the Clinical Potential of Chemical Innovation" Monthly Workshop
DESCRIPTION:We are excited to extend an invitation for you to join us at the monthly workshop\, “Unlocking the Clinical Potential of Chemical Innovation.” The first lunch and learn workshop will take place on March 16th\, 2023 at 12 pm in BCR280. \n\n\n\nOur first ENRICH Speaker\, Dr. Jeffrey M. Rosen\, Distinguished Service Professor and Leader of the Breast Cancer Program at Baylor College of Medicine\, will be presenting “Leveraging Preclinical Models for Translational Breast Cancer Research“. Please follow the link below to register: \n\n\n\nhttps://docs.google.com/forms/d/e/1FAIpQLSeTi4zR-4uCt74cWt2RKTZsoakIlTYHg8K6r3ZrdkeQT_F6uA/viewform \n\n\n\nSupported by the Rice Chemistry Department\, the BCM Cancer Center\, and Rice ENRICH\, this workshop aims to provide a platform for introducing biomedical changes in the clinic and finding solutions through collaboration. The event will feature a “lunch and learn” format\, followed by a mini poster session. \n\n\n\nBest\, \n\n\n\nEmely Guijon\, Event Coordinator \n\n\n\nOn the behalf of the Steering Committee\, “Unlocking the Clinical Potential of Chemical Innovation” workshop.
URL:https://www.gulfcoastconsortia.org/event/unlocking-the-clinical-potential-of-chemical-innovation-monthly-workshop/
LOCATION:Maryland
CATEGORIES:GCCIDDD
ATTACH;FMTTYPE=image/png:https://www.gulfcoastconsortia.org/wp-content/uploads/2023/03/SynthX.png
END:VEVENT
END:VCALENDAR