BEGIN:VCALENDAR
VERSION:2.0
PRODID:-//Gulf Coast Consortia - ECPv6.15.18//NONSGML v1.0//EN
CALSCALE:GREGORIAN
METHOD:PUBLISH
X-ORIGINAL-URL:https://www.gulfcoastconsortia.org
X-WR-CALDESC:Events for Gulf Coast Consortia
REFRESH-INTERVAL;VALUE=DURATION:PT1H
X-Robots-Tag:noindex
X-PUBLISHED-TTL:PT1H
BEGIN:VTIMEZONE
TZID:America/Chicago
BEGIN:DAYLIGHT
TZOFFSETFROM:-0600
TZOFFSETTO:-0500
TZNAME:CDT
DTSTART:20220313T080000
END:DAYLIGHT
BEGIN:STANDARD
TZOFFSETFROM:-0500
TZOFFSETTO:-0600
TZNAME:CST
DTSTART:20221106T070000
END:STANDARD
BEGIN:DAYLIGHT
TZOFFSETFROM:-0600
TZOFFSETTO:-0500
TZNAME:CDT
DTSTART:20230312T080000
END:DAYLIGHT
BEGIN:STANDARD
TZOFFSETFROM:-0500
TZOFFSETTO:-0600
TZNAME:CST
DTSTART:20231105T070000
END:STANDARD
BEGIN:DAYLIGHT
TZOFFSETFROM:-0600
TZOFFSETTO:-0500
TZNAME:CDT
DTSTART:20240310T080000
END:DAYLIGHT
BEGIN:STANDARD
TZOFFSETFROM:-0500
TZOFFSETTO:-0600
TZNAME:CST
DTSTART:20241103T070000
END:STANDARD
END:VTIMEZONE
BEGIN:VEVENT
DTSTART;TZID=America/Chicago:20230307T140000
DTEND;TZID=America/Chicago:20230308T170000
DTSTAMP:20260425T105446
CREATED:20230126T181445Z
LAST-MODIFIED:20230126T182116Z
UID:10001034-1678197600-1678294800@www.gulfcoastconsortia.org
SUMMARY:GCC 3rd Annual Future of Immunology Symposium
DESCRIPTION:
URL:https://www.gulfcoastconsortia.org/event/gcc-3rd-annual-future-of-immunology-symposium/
LOCATION:Maryland
CATEGORIES:GCCIMM
ATTACH;FMTTYPE=image/png:https://www.gulfcoastconsortia.org/wp-content/uploads/2023/01/3rd-Annual-GCC-Future-of-Immunology-Symposium.png
END:VEVENT
BEGIN:VEVENT
DTSTART;TZID=America/Chicago:20230308T160000
DTEND;TZID=America/Chicago:20230308T170000
DTSTAMP:20260425T105446
CREATED:20230324T143057Z
LAST-MODIFIED:20230331T143852Z
UID:10000808-1678291200-1678294800@www.gulfcoastconsortia.org
SUMMARY:Texas Single Cell Seminars
DESCRIPTION:Texas Single Cell Seminar – Spring 2023 ScheduleWednesdays 4-5 PMMeeting ID: 828 6718 3777Password: TXSC \n\n\n\nVIEW SCHEDULE HERE
URL:https://www.gulfcoastconsortia.org/event/texas-single-cell-seminars/2023-03-08/
LOCATION:Maryland
CATEGORIES:GCCSCO
ATTACH;FMTTYPE=image/png:https://www.gulfcoastconsortia.org/wp-content/uploads/2023/03/TX-Single-Cell-Schedule-.png
END:VEVENT
END:VCALENDAR