BEGIN:VCALENDAR
VERSION:2.0
PRODID:-//Gulf Coast Consortia - ECPv6.15.18//NONSGML v1.0//EN
CALSCALE:GREGORIAN
METHOD:PUBLISH
X-WR-CALNAME:Gulf Coast Consortia
X-ORIGINAL-URL:https://www.gulfcoastconsortia.org
X-WR-CALDESC:Events for Gulf Coast Consortia
REFRESH-INTERVAL;VALUE=DURATION:PT1H
X-Robots-Tag:noindex
X-PUBLISHED-TTL:PT1H
BEGIN:VTIMEZONE
TZID:America/Chicago
BEGIN:DAYLIGHT
TZOFFSETFROM:-0600
TZOFFSETTO:-0500
TZNAME:CDT
DTSTART:20220313T080000
END:DAYLIGHT
BEGIN:STANDARD
TZOFFSETFROM:-0500
TZOFFSETTO:-0600
TZNAME:CST
DTSTART:20221106T070000
END:STANDARD
BEGIN:DAYLIGHT
TZOFFSETFROM:-0600
TZOFFSETTO:-0500
TZNAME:CDT
DTSTART:20230312T080000
END:DAYLIGHT
BEGIN:STANDARD
TZOFFSETFROM:-0500
TZOFFSETTO:-0600
TZNAME:CST
DTSTART:20231105T070000
END:STANDARD
BEGIN:DAYLIGHT
TZOFFSETFROM:-0600
TZOFFSETTO:-0500
TZNAME:CDT
DTSTART:20240310T080000
END:DAYLIGHT
BEGIN:STANDARD
TZOFFSETFROM:-0500
TZOFFSETTO:-0600
TZNAME:CST
DTSTART:20241103T070000
END:STANDARD
END:VTIMEZONE
BEGIN:VEVENT
DTSTART;TZID=America/Chicago:20230303T110000
DTEND;TZID=America/Chicago:20230303T120000
DTSTAMP:20260425T105254
CREATED:20230125T160505Z
LAST-MODIFIED:20230125T160507Z
UID:10001033-1677841200-1677844800@www.gulfcoastconsortia.org
SUMMARY:MD Anderson Pain Research Consortium Seminar
DESCRIPTION:Imaging Pain Processing\, Long-Term\, in the Brain and Spinal Cord of the Awake\, Freely Moving Animal \n\n\n\nAllan Basbaum\, PhDProfessor and ChairDepartment of AnatomyThe University of California San Francisco
URL:https://www.gulfcoastconsortia.org/event/md-anderson-pain-research-consortium-seminar/
LOCATION:Maryland
CATEGORIES:GCCTPR
ATTACH;FMTTYPE=image/jpeg:https://www.gulfcoastconsortia.org/wp-content/uploads/2023/01/Pain-Research-Consortium_March-3-2023_Basbaum_Landscape1024_1-jpg.jpg
END:VEVENT
BEGIN:VEVENT
DTSTART;TZID=America/Chicago:20230303T160000
DTEND;TZID=America/Chicago:20230303T170000
DTSTAMP:20260425T105254
CREATED:20230118T152538Z
LAST-MODIFIED:20230522T144237Z
UID:10001026-1677859200-1677862800@www.gulfcoastconsortia.org
SUMMARY:Keck Seminar\, Renita Horton\, PhD
DESCRIPTION:Renita Horton\, PhDAssociate Professor\, Biomedical Engineering\, University of Houston \n\n\n\n\n\n\n\nTitle: Engineering Systems for Cardiovascular Diseases
URL:https://www.gulfcoastconsortia.org/event/keck-seminar-renita-horton-phd/
LOCATION:Maryland
CATEGORIES:Keck Seminar Spring 2023
END:VEVENT
END:VCALENDAR