BEGIN:VCALENDAR
VERSION:2.0
PRODID:-//Gulf Coast Consortia - ECPv6.15.18//NONSGML v1.0//EN
CALSCALE:GREGORIAN
METHOD:PUBLISH
X-WR-CALNAME:Gulf Coast Consortia
X-ORIGINAL-URL:https://www.gulfcoastconsortia.org
X-WR-CALDESC:Events for Gulf Coast Consortia
REFRESH-INTERVAL;VALUE=DURATION:PT1H
X-Robots-Tag:noindex
X-PUBLISHED-TTL:PT1H
BEGIN:VTIMEZONE
TZID:America/Chicago
BEGIN:DAYLIGHT
TZOFFSETFROM:-0600
TZOFFSETTO:-0500
TZNAME:CDT
DTSTART:20220313T080000
END:DAYLIGHT
BEGIN:STANDARD
TZOFFSETFROM:-0500
TZOFFSETTO:-0600
TZNAME:CST
DTSTART:20221106T070000
END:STANDARD
BEGIN:DAYLIGHT
TZOFFSETFROM:-0600
TZOFFSETTO:-0500
TZNAME:CDT
DTSTART:20230312T080000
END:DAYLIGHT
BEGIN:STANDARD
TZOFFSETFROM:-0500
TZOFFSETTO:-0600
TZNAME:CST
DTSTART:20231105T070000
END:STANDARD
BEGIN:DAYLIGHT
TZOFFSETFROM:-0600
TZOFFSETTO:-0500
TZNAME:CDT
DTSTART:20240310T080000
END:DAYLIGHT
BEGIN:STANDARD
TZOFFSETFROM:-0500
TZOFFSETTO:-0600
TZNAME:CST
DTSTART:20241103T070000
END:STANDARD
END:VTIMEZONE
BEGIN:VEVENT
DTSTART;TZID=America/Chicago:20230214T080000
DTEND;TZID=America/Chicago:20230214T170000
DTSTAMP:20260425T121911
CREATED:20230214T142541Z
LAST-MODIFIED:20230214T142541Z
UID:10001036-1676361600-1676394000@www.gulfcoastconsortia.org
SUMMARY:Fannin Innovations Studio - Therapeutics Internships for Summer 2023 - Virtual Open House
DESCRIPTION:Fannin is actively seeking Therapeutics interns for Summer 2023!  We will host a Virtual Open House on March 2nd\, and applications are due March 17th.  Please feel free to promote these opportunities within your membership. \n\n\n\nFannin primarily in-licenses promising\, early-stage therapeutic and medical device technologies from leading academic investigators in the Texas Medical Center and on a national stage. Fannin develops and de-risks these technologies via preclinical work and engineering up through early clinical trials. Additionally\, Fannin builds the business model and use case\, resulting in strategic partnerships or acquisitions. \n\n\n\nOur internship program provides hands-on operational experience in early-stage life science development. Fannin offers two tracks in our internship program: Therapeutics and Medical Devices. Our interns work closely with established and potential portfolio companies\, experientially learning about biomedical commercialization. Interns might be tasked with assisting with due diligence\, working on market analysis\, assisting with product development\, or researching and understanding key regulatory requirements. All interns work closely with the core Fannin team to ensure a beneficial and useful experience. \n\n\n\nWe have had several Interns or Fellows connected to GCCQBS complete our program\, and we look forward to receiving interest from more of your members! \n\n\n\nShould you have any questions\, please contact me or our Associate Principal for Therapeutics\, Stephanie Vega\, copied in this email. \n\n\n\nSerena MigginsBusiness Operations Manager713-966-5844
URL:https://www.gulfcoastconsortia.org/event/fannin-innovations-studio-therapeutics-internships-for-summer-2023-virtual-open-house/
LOCATION:Maryland
CATEGORIES:GCCIDDD
ATTACH;FMTTYPE=image/png:https://www.gulfcoastconsortia.org/wp-content/uploads/2023/02/Fannin-Internships.png
END:VEVENT
END:VCALENDAR