BEGIN:VCALENDAR
VERSION:2.0
PRODID:-//Gulf Coast Consortia - ECPv6.15.18//NONSGML v1.0//EN
CALSCALE:GREGORIAN
METHOD:PUBLISH
X-WR-CALNAME:Gulf Coast Consortia
X-ORIGINAL-URL:https://www.gulfcoastconsortia.org
X-WR-CALDESC:Events for Gulf Coast Consortia
REFRESH-INTERVAL;VALUE=DURATION:PT1H
X-Robots-Tag:noindex
X-PUBLISHED-TTL:PT1H
BEGIN:VTIMEZONE
TZID:America/Chicago
BEGIN:DAYLIGHT
TZOFFSETFROM:-0600
TZOFFSETTO:-0500
TZNAME:CDT
DTSTART:20220313T080000
END:DAYLIGHT
BEGIN:STANDARD
TZOFFSETFROM:-0500
TZOFFSETTO:-0600
TZNAME:CST
DTSTART:20221106T070000
END:STANDARD
BEGIN:DAYLIGHT
TZOFFSETFROM:-0600
TZOFFSETTO:-0500
TZNAME:CDT
DTSTART:20230312T080000
END:DAYLIGHT
BEGIN:STANDARD
TZOFFSETFROM:-0500
TZOFFSETTO:-0600
TZNAME:CST
DTSTART:20231105T070000
END:STANDARD
BEGIN:DAYLIGHT
TZOFFSETFROM:-0600
TZOFFSETTO:-0500
TZNAME:CDT
DTSTART:20240310T080000
END:DAYLIGHT
BEGIN:STANDARD
TZOFFSETFROM:-0500
TZOFFSETTO:-0600
TZNAME:CST
DTSTART:20241103T070000
END:STANDARD
END:VTIMEZONE
BEGIN:VEVENT
DTSTART;TZID=America/Chicago:20230210T090000
DTEND;TZID=America/Chicago:20230210T170000
DTSTAMP:20260425T121810
CREATED:20230103T141540Z
LAST-MODIFIED:20230130T151418Z
UID:10000781-1676019600-1676048400@www.gulfcoastconsortia.org
SUMMARY:20th Annual GCC Theoretical and Computational Neuroscience Conference
DESCRIPTION:Confirmed presenters include: Tatiana Engel\, Cold Spring Harbor Laboratories; Stefano Fusi\, Columbia Univ.; Nicholas Priebe\, Univ. of Texas; Agenor Limon\, Univ. of Texas Medical Branch at Galveston; Kara Marshall\, Texas Children’s Hospital; Luca Mazzucato\, Univ. of Oregon; and Evelyn Tang\, Rice Univ.
URL:https://www.gulfcoastconsortia.org/event/20th-annual-gcc-theoretical-and-computational-neuroscience-conference/
LOCATION:Maryland
CATEGORIES:GCCTCN
ATTACH;FMTTYPE=image/png:https://www.gulfcoastconsortia.org/wp-content/uploads/2023/01/TCN-flier-image-2.png
END:VEVENT
BEGIN:VEVENT
DTSTART;TZID=America/Chicago:20230210T160000
DTEND;TZID=America/Chicago:20230210T170000
DTSTAMP:20260425T121810
CREATED:20230104T222310Z
LAST-MODIFIED:20230104T222314Z
UID:10001019-1676044800-1676048400@www.gulfcoastconsortia.org
SUMMARY:No Keck Seminar
DESCRIPTION:
URL:https://www.gulfcoastconsortia.org/event/no-keck-seminar-3/
LOCATION:Maryland
CATEGORIES:Keck Seminar Spring 2023
END:VEVENT
END:VCALENDAR