BEGIN:VCALENDAR
VERSION:2.0
PRODID:-//Gulf Coast Consortia - ECPv6.15.18//NONSGML v1.0//EN
CALSCALE:GREGORIAN
METHOD:PUBLISH
X-WR-CALNAME:Gulf Coast Consortia
X-ORIGINAL-URL:https://www.gulfcoastconsortia.org
X-WR-CALDESC:Events for Gulf Coast Consortia
REFRESH-INTERVAL;VALUE=DURATION:PT1H
X-Robots-Tag:noindex
X-PUBLISHED-TTL:PT1H
BEGIN:VTIMEZONE
TZID:America/Chicago
BEGIN:DAYLIGHT
TZOFFSETFROM:-0600
TZOFFSETTO:-0500
TZNAME:CDT
DTSTART:20220313T080000
END:DAYLIGHT
BEGIN:STANDARD
TZOFFSETFROM:-0500
TZOFFSETTO:-0600
TZNAME:CST
DTSTART:20221106T070000
END:STANDARD
BEGIN:DAYLIGHT
TZOFFSETFROM:-0600
TZOFFSETTO:-0500
TZNAME:CDT
DTSTART:20230312T080000
END:DAYLIGHT
BEGIN:STANDARD
TZOFFSETFROM:-0500
TZOFFSETTO:-0600
TZNAME:CST
DTSTART:20231105T070000
END:STANDARD
BEGIN:DAYLIGHT
TZOFFSETFROM:-0600
TZOFFSETTO:-0500
TZNAME:CDT
DTSTART:20240310T080000
END:DAYLIGHT
BEGIN:STANDARD
TZOFFSETFROM:-0500
TZOFFSETTO:-0600
TZNAME:CST
DTSTART:20241103T070000
END:STANDARD
END:VTIMEZONE
BEGIN:VEVENT
DTSTART;TZID=America/Chicago:20230209T100000
DTEND;TZID=America/Chicago:20230209T163000
DTSTAMP:20260425T121910
CREATED:20230103T142109Z
LAST-MODIFIED:20230103T142110Z
UID:10000783-1675936800-1675960200@www.gulfcoastconsortia.org
SUMMARY: NeuroNex Workshop
DESCRIPTION:Agenda: \n\n\n\n10:00 – 11:00 Luca Mazzucato\, Univ. of Oregon \n\n\n\n \n\n\n\n11:10 – 12:10 Tatjana Engel\, Cold Spring Harbor Laboratoriesa \n\n\n\n12:20 – 1:20 lunch \n\n\n\n1:20 – 2:20 Ida Mommenejad\, Microsoft Research \n\n\n\n \n\n\n\n2:30 – 3:40 Stefano Fusi\, Columbia Univ. \n\n\n\n \n\n\n\n3:50 – 4:20 panel discussion
URL:https://www.gulfcoastconsortia.org/event/neuronex-workshop/
LOCATION:Maryland
CATEGORIES:GCCTCN
END:VEVENT
BEGIN:VEVENT
DTSTART;TZID=America/Chicago:20230209T153000
DTEND;TZID=America/Chicago:20230209T170000
DTSTAMP:20260425T121910
CREATED:20230202T170543Z
LAST-MODIFIED:20230202T170544Z
UID:10001035-1675956600-1675962000@www.gulfcoastconsortia.org
SUMMARY:IDDD Roundtable Workshop: Life\, Science\, and Work Cultures Across the Different US Biotech/Pharma Hubs
DESCRIPTION:This workshop will feature presenters from: Darren Boehning\, Cooper Medical School of Rowan University; Rich Heyman\, Heyman Biotech;  Melissa Landon\, Cyclica; and Jeff Kovacs\, Aktis Oncology.
URL:https://www.gulfcoastconsortia.org/event/iddd-roundtable-workshop-life-science-and-work-cultures-across-the-different-us-biotech-pharma-hubs/
LOCATION:Maryland
CATEGORIES:GCCIDDD
ATTACH;FMTTYPE=image/jpeg:https://www.gulfcoastconsortia.org/wp-content/uploads/2023/02/Feb-9-2023-Roundtable-Flyer-IDDD.jpg
END:VEVENT
END:VCALENDAR