BEGIN:VCALENDAR
VERSION:2.0
PRODID:-//Gulf Coast Consortia - ECPv6.15.18//NONSGML v1.0//EN
CALSCALE:GREGORIAN
METHOD:PUBLISH
X-WR-CALNAME:Gulf Coast Consortia
X-ORIGINAL-URL:https://www.gulfcoastconsortia.org
X-WR-CALDESC:Events for Gulf Coast Consortia
REFRESH-INTERVAL;VALUE=DURATION:PT1H
X-Robots-Tag:noindex
X-PUBLISHED-TTL:PT1H
BEGIN:VTIMEZONE
TZID:America/Chicago
BEGIN:DAYLIGHT
TZOFFSETFROM:-0600
TZOFFSETTO:-0500
TZNAME:CDT
DTSTART:20220313T080000
END:DAYLIGHT
BEGIN:STANDARD
TZOFFSETFROM:-0500
TZOFFSETTO:-0600
TZNAME:CST
DTSTART:20221106T070000
END:STANDARD
BEGIN:DAYLIGHT
TZOFFSETFROM:-0600
TZOFFSETTO:-0500
TZNAME:CDT
DTSTART:20230312T080000
END:DAYLIGHT
BEGIN:STANDARD
TZOFFSETFROM:-0500
TZOFFSETTO:-0600
TZNAME:CST
DTSTART:20231105T070000
END:STANDARD
BEGIN:DAYLIGHT
TZOFFSETFROM:-0600
TZOFFSETTO:-0500
TZNAME:CDT
DTSTART:20240310T080000
END:DAYLIGHT
BEGIN:STANDARD
TZOFFSETFROM:-0500
TZOFFSETTO:-0600
TZNAME:CST
DTSTART:20241103T070000
END:STANDARD
END:VTIMEZONE
BEGIN:VEVENT
DTSTART;TZID=America/Chicago:20230112T153000
DTEND;TZID=America/Chicago:20230112T170000
DTSTAMP:20260425T134723
CREATED:20230103T161354Z
LAST-MODIFIED:20230103T161356Z
UID:10000785-1673537400-1673542800@www.gulfcoastconsortia.org
SUMMARY:IDDD Roundtable Workshop: Greater Houston Area Collaborative Biomedical Breakthrough Resources
DESCRIPTION:This workshop will feature presenters from: UH Technology Bridge (Tanu Chatterjee); K2 Biolabs (Phillip Eckels\, John Ferreira\, Kieron Jones); Biolabs Dallas (Gabby Everett); Texas Medical Center (TMC) Innovation (Tom Luby); Levit Green (John Mooz); and JLabs (Rachel Rath).
URL:https://www.gulfcoastconsortia.org/event/iddd-roundtable-workshop-greater-houston-area-collaborative-biomedical-breakthrough-resources/
LOCATION:Maryland
CATEGORIES:GCCIDDD
END:VEVENT
END:VCALENDAR