BEGIN:VCALENDAR
VERSION:2.0
PRODID:-//Gulf Coast Consortia - ECPv6.15.18//NONSGML v1.0//EN
CALSCALE:GREGORIAN
METHOD:PUBLISH
X-ORIGINAL-URL:https://www.gulfcoastconsortia.org
X-WR-CALDESC:Events for Gulf Coast Consortia
REFRESH-INTERVAL;VALUE=DURATION:PT1H
X-Robots-Tag:noindex
X-PUBLISHED-TTL:PT1H
BEGIN:VTIMEZONE
TZID:America/Chicago
BEGIN:DAYLIGHT
TZOFFSETFROM:-0600
TZOFFSETTO:-0500
TZNAME:CDT
DTSTART:20210314T080000
END:DAYLIGHT
BEGIN:STANDARD
TZOFFSETFROM:-0500
TZOFFSETTO:-0600
TZNAME:CST
DTSTART:20211107T070000
END:STANDARD
BEGIN:DAYLIGHT
TZOFFSETFROM:-0600
TZOFFSETTO:-0500
TZNAME:CDT
DTSTART:20220313T080000
END:DAYLIGHT
BEGIN:STANDARD
TZOFFSETFROM:-0500
TZOFFSETTO:-0600
TZNAME:CST
DTSTART:20221106T070000
END:STANDARD
BEGIN:DAYLIGHT
TZOFFSETFROM:-0600
TZOFFSETTO:-0500
TZNAME:CDT
DTSTART:20230312T080000
END:DAYLIGHT
BEGIN:STANDARD
TZOFFSETFROM:-0500
TZOFFSETTO:-0600
TZNAME:CST
DTSTART:20231105T070000
END:STANDARD
END:VTIMEZONE
BEGIN:VEVENT
DTSTART;TZID=America/Chicago:20221104T160000
DTEND;TZID=America/Chicago:20221104T170000
DTSTAMP:20260425T163942
CREATED:20220823T201853Z
LAST-MODIFIED:20221007T152810Z
UID:10000999-1667577600-1667581200@www.gulfcoastconsortia.org
SUMMARY:Keck Seminar\, Jonathan King\, PhD
DESCRIPTION:Jonathan King\, PhD Professor\, Biology\, Trinity University \n\n\n\n\n\n\n\nTitle: Examination of the Interplay between Membrane Tension and the Tight Junction Protein\, ZO-1 Zonula occluden-1
URL:https://www.gulfcoastconsortia.org/event/keck-seminar-tbd-7/
LOCATION:Maryland
CATEGORIES:Keck Seminar Fall 2022
END:VEVENT
END:VCALENDAR